BEGIN:VCALENDAR
VERSION:2.0
PRODID:-//Museo di Leventina - ECPv4.9.13//NONSGML v1.0//EN
CALSCALE:GREGORIAN
METHOD:PUBLISH
X-WR-CALNAME:Museo di Leventina
X-ORIGINAL-URL:https://museodileventina.ch
X-WR-CALDESC:Eventi per Museo di Leventina
BEGIN:VTIMEZONE
TZID:Europe/Zurich
BEGIN:DAYLIGHT
TZOFFSETFROM:+0100
TZOFFSETTO:+0200
TZNAME:CEST
DTSTART:20160327T010000
END:DAYLIGHT
BEGIN:STANDARD
TZOFFSETFROM:+0200
TZOFFSETTO:+0100
TZNAME:CET
DTSTART:20161030T010000
END:STANDARD
END:VTIMEZONE
BEGIN:VEVENT
DTSTART;TZID=Europe/Zurich:20160322T200000
DTEND;TZID=Europe/Zurich:20160322T220000
DTSTAMP:20260425T131746
CREATED:20160121T125715Z
LAST-MODIFIED:20160121T125715Z
UID:2606-1458676800-1458684000@museodileventina.ch
SUMMARY:Assemblea ordinaria dell'Associazione Museo di Leventina
DESCRIPTION:Consuntivo 2015 \n
URL:https://museodileventina.ch/event/assemblea-ordinaria-dellassociazione-museo-di-leventina/
LOCATION:Centro di formazione ESI presso il complesso della Vecchia Biaschina\, Bodio\, Strada industriale\, Bodio\, Svizzera
END:VEVENT
END:VCALENDAR