BEGIN:VCALENDAR
VERSION:2.0
PRODID:-//Museo di Leventina - ECPv4.9.13//NONSGML v1.0//EN
CALSCALE:GREGORIAN
METHOD:PUBLISH
X-WR-CALNAME:Museo di Leventina
X-ORIGINAL-URL:https://museodileventina.ch
X-WR-CALDESC:Eventi per Museo di Leventina
BEGIN:VTIMEZONE
TZID:Europe/Zurich
BEGIN:DAYLIGHT
TZOFFSETFROM:+0100
TZOFFSETTO:+0200
TZNAME:CEST
DTSTART:20150329T010000
END:DAYLIGHT
BEGIN:STANDARD
TZOFFSETFROM:+0200
TZOFFSETTO:+0100
TZNAME:CET
DTSTART:20151025T010000
END:STANDARD
END:VTIMEZONE
BEGIN:VEVENT
DTSTART;TZID=Europe/Zurich:20151116T200000
DTEND;TZID=Europe/Zurich:20151116T220000
DTSTAMP:20260425T225527
CREATED:20150828T150447Z
LAST-MODIFIED:20151021T123805Z
UID:2488-1447704000-1447711200@museodileventina.ch
SUMMARY:Attenzione: l'Assemblea ordinaria per il preventivo 2016 é stata posticipata a lunedì 16 novembre 2015
DESCRIPTION:Sala conferenze Museo di Leventina \n
URL:https://museodileventina.ch/event/assemblea-ordinaria-preventivo-2016/
LOCATION:Centro di formazione ESI presso il complesso della Vecchia Biaschina\, Bodio\, Strada industriale\, Bodio\, Svizzera
END:VEVENT
END:VCALENDAR