BEGIN:VCALENDAR
VERSION:2.0
PRODID:-//Museo di Leventina - ECPv4.9.13//NONSGML v1.0//EN
CALSCALE:GREGORIAN
METHOD:PUBLISH
X-WR-CALNAME:Museo di Leventina
X-ORIGINAL-URL:https://museodileventina.ch
X-WR-CALDESC:Eventi per Museo di Leventina
BEGIN:VTIMEZONE
TZID:Europe/Zurich
BEGIN:DAYLIGHT
TZOFFSETFROM:+0100
TZOFFSETTO:+0200
TZNAME:CEST
DTSTART:20180325T010000
END:DAYLIGHT
BEGIN:STANDARD
TZOFFSETFROM:+0200
TZOFFSETTO:+0100
TZNAME:CET
DTSTART:20181028T010000
END:STANDARD
END:VTIMEZONE
BEGIN:VEVENT
DTSTART;TZID=Europe/Zurich:20181110T160000
DTEND;TZID=Europe/Zurich:20181110T170000
DTSTAMP:20260423T104805
CREATED:20181106T100717Z
LAST-MODIFIED:20181106T103531Z
UID:3425-1541865600-1541869200@museodileventina.ch
SUMMARY:Conferenza - Una storia di famiglia: la famiglia Codaghengo di Cavagnago
DESCRIPTION:Conferenza di Fabio Chierichetti. \nLa conferenza è a margine della mostra: Ogni albero ha il suo nome\, curata dalla Società genealogica della Svizzera italiana. \nL’esposizione rimane aperta dal 2 al 24 novembre 2018 e sarà possibile visitarla presso la Casa per anziani Elena Celio a Giornico nei seguenti orari: \ntutti i giorni 10.00 - 11.30  e  14.30 – 17.30. \nPer gruppi e scuole è possibile organizzare visite in orari concordati telefonando ai numeri: 091 792 23 31 oppure 079 427 24 20. \n  \n
URL:https://museodileventina.ch/event/conferenza-una-storia-di-famiglia-la-famiglia-codaghengo-di-cavagnago/
LOCATION:Casa per anziani Elena Celio\, Giornico
ATTACH;FMTTYPE=image/jpeg:https://museodileventina.ch/wp-content/uploads/2018/11/2018-11-10-Locandina-mostra-genealogia-web.jpg
END:VEVENT
END:VCALENDAR