BEGIN:VCALENDAR
VERSION:2.0
PRODID:-//Museo di Leventina - ECPv4.9.13//NONSGML v1.0//EN
CALSCALE:GREGORIAN
METHOD:PUBLISH
X-WR-CALNAME:Museo di Leventina
X-ORIGINAL-URL:https://museodileventina.ch
X-WR-CALDESC:Eventi per Museo di Leventina
BEGIN:VTIMEZONE
TZID:Europe/Zurich
BEGIN:DAYLIGHT
TZOFFSETFROM:+0100
TZOFFSETTO:+0200
TZNAME:CEST
DTSTART:20180325T010000
END:DAYLIGHT
BEGIN:STANDARD
TZOFFSETFROM:+0200
TZOFFSETTO:+0100
TZNAME:CET
DTSTART:20181028T010000
END:STANDARD
END:VTIMEZONE
BEGIN:VEVENT
DTSTART;VALUE=DATE:20180915
DTEND;VALUE=DATE:20180916
DTSTAMP:20260425T171316
CREATED:20180503T143239Z
LAST-MODIFIED:20180828T151355Z
UID:3277-1536969600-1537055999@museodileventina.ch
SUMMARY:Corsa delle sette chiese
DESCRIPTION:Visite guidate di Giornico organizzate dal Museo di Leventina. \n \n  \n
URL:https://museodileventina.ch/event/corsa-delle-sette-chiese/
LOCATION:Museo di Leventina\, Giornico
ATTACH;FMTTYPE=image/png:https://museodileventina.ch/wp-content/uploads/2018/05/Logo-Corsa-delle-7-chiese.png
END:VEVENT
END:VCALENDAR