BEGIN:VCALENDAR
VERSION:2.0
PRODID:-//Museo di Leventina - ECPv4.9.13//NONSGML v1.0//EN
CALSCALE:GREGORIAN
METHOD:PUBLISH
X-WR-CALNAME:Museo di Leventina
X-ORIGINAL-URL:https://museodileventina.ch
X-WR-CALDESC:Eventi per Museo di Leventina
BEGIN:VTIMEZONE
TZID:Europe/Zurich
BEGIN:DAYLIGHT
TZOFFSETFROM:+0100
TZOFFSETTO:+0200
TZNAME:CEST
DTSTART:20160327T010000
END:DAYLIGHT
BEGIN:STANDARD
TZOFFSETFROM:+0200
TZOFFSETTO:+0100
TZNAME:CET
DTSTART:20161030T010000
END:STANDARD
END:VTIMEZONE
BEGIN:VEVENT
DTSTART;TZID=Europe/Zurich:20160916T180000
DTEND;TZID=Europe/Zurich:20160916T200000
DTSTAMP:20260423T214101
CREATED:20160303T164209Z
LAST-MODIFIED:20160824T160307Z
UID:2663-1474048800-1474056000@museodileventina.ch
SUMMARY:Corso - 1 serata - Avvicinarsi all’arte della stampa
DESCRIPTION:Corso con Gianstefano Galli\, ex-docente CSIA di storia della comunicazione e tecniche di stampa.\nTemi trattati:\nLa conoscenza della stampa (tecniche\, linguaggi).\nLa stampa oggetto di edizione.\nL’arte della stampa.\nCollezionare stampe. \nCosto: 20.- CHF a serata\nIscrizioni entro: venerdì 2 settembre 2016 \nContatti e iscrizioni\nMuseo di Leventina\nCasa Stanga\n6745 Giornico\nTel. +41 91 864 25 22\ninfo@museodileventina.ch\nwww.museodileventina.ch \nScarica il programma: Programma del corso - LA LEVENTINA DEI VIAGGIATORI - dalle vecchie stampe all'alta velocità \n
URL:https://museodileventina.ch/event/corso-1-serata-avvicinarsi-allarte-della-stampa/
LOCATION:Centro di formazione ESI presso il complesso della Vecchia Biaschina\, Bodio\, Strada industriale\, Bodio\, Svizzera
ATTACH;FMTTYPE=image/jpeg:https://museodileventina.ch/wp-content/uploads/2016/03/Dettaglio-stampa-Gottardo-2.jpg
END:VEVENT
END:VCALENDAR