BEGIN:VCALENDAR
VERSION:2.0
PRODID:-//Museo di Leventina - ECPv4.9.13//NONSGML v1.0//EN
CALSCALE:GREGORIAN
METHOD:PUBLISH
X-WR-CALNAME:Museo di Leventina
X-ORIGINAL-URL:https://museodileventina.ch
X-WR-CALDESC:Eventi per Museo di Leventina
BEGIN:VTIMEZONE
TZID:Europe/Zurich
BEGIN:DAYLIGHT
TZOFFSETFROM:+0100
TZOFFSETTO:+0200
TZNAME:CEST
DTSTART:20160327T010000
END:DAYLIGHT
BEGIN:STANDARD
TZOFFSETFROM:+0200
TZOFFSETTO:+0100
TZNAME:CET
DTSTART:20161030T010000
END:STANDARD
END:VTIMEZONE
BEGIN:VEVENT
DTSTART;TZID=Europe/Zurich:20160923T180000
DTEND;TZID=Europe/Zurich:20160923T200000
DTSTAMP:20260423T195624
CREATED:20160303T164616Z
LAST-MODIFIED:20160919T145918Z
UID:2664-1474653600-1474660800@museodileventina.ch
SUMMARY:Corso - 2 serata - La stampa europea dal ‘300 al ‘900 - Attenzione: la serata è stata annullata.
DESCRIPTION:Corso con Gianstefano Galli\, ex-docente CSIA di storia della comunicazione e tecniche di stampa. \nTemi trattati:\nLa produzione di stampe in Europa\, lo sviluppo delle tecniche\, la varietà di usi.\nIl Trecento : l’importazione della tecnica xilograﬁca in Europa\, suo uso laico e religioso.\nIl Quattrocento e la nascita della calcograﬁa – sue conseguenze nel campo della produzione di stampe – evoluzione delle tecniche dirette e indirette.\nIl Settecento e la rinascita della stampa a colori.\n1798 : nasce la litograﬁa.\nl’Ottocento : la cromolitograﬁa – la xilograﬁa su legno di testa – tecniche di stampa fotomeccaniche. \nCosto: 20.- CHF a serata\nIscrizioni entro: venerdì 2 settembre 2016 \nContatti e iscrizioni\nMuseo di Leventina\nCasa Stanga\n6745 Giornico\nTel. +41 91 864 25 22\ninfo@museodileventina.ch\nwww.museodileventina.ch \nScarica il programma: Programma del corso - LA LEVENTINA DEI VIAGGIATORI - dalle vecchie stampe all'alta velocità \n
URL:https://museodileventina.ch/event/corso-1-serata-la-stampa-europea-dal-300-al-900/
LOCATION:Centro di formazione ESI presso il complesso della Vecchia Biaschina\, Bodio\, Strada industriale\, Bodio\, Svizzera
ATTACH;FMTTYPE=image/jpeg:https://museodileventina.ch/wp-content/uploads/2016/03/Airolo-1a.jpg
END:VEVENT
END:VCALENDAR