BEGIN:VCALENDAR
VERSION:2.0
PRODID:-//Museo di Leventina - ECPv4.9.13//NONSGML v1.0//EN
CALSCALE:GREGORIAN
METHOD:PUBLISH
X-WR-CALNAME:Museo di Leventina
X-ORIGINAL-URL:https://museodileventina.ch
X-WR-CALDESC:Eventi per Museo di Leventina
BEGIN:VTIMEZONE
TZID:Europe/Zurich
BEGIN:DAYLIGHT
TZOFFSETFROM:+0100
TZOFFSETTO:+0200
TZNAME:CEST
DTSTART:20160327T010000
END:DAYLIGHT
BEGIN:STANDARD
TZOFFSETFROM:+0200
TZOFFSETTO:+0100
TZNAME:CET
DTSTART:20161030T010000
END:STANDARD
END:VTIMEZONE
BEGIN:VEVENT
DTSTART;TZID=Europe/Zurich:20160930T180000
DTEND;TZID=Europe/Zurich:20160930T200000
DTSTAMP:20260423T195020
CREATED:20160303T165318Z
LAST-MODIFIED:20160919T150609Z
UID:2666-1475258400-1475265600@museodileventina.ch
SUMMARY:La Leventina e il San Gottardo: dalle immagini delle vecchie stampe alla realtà storica
DESCRIPTION:Conferenza del Dr. Fabrizio Viscontini\, storico. \n \nEntrata gratuita.\nContatti\nMuseo di Leventina\nCasa Stanga\n6745 Giornico\nTel. +41 91 864 25 22\ninfo@museodileventina.ch\nwww.museodileventina.ch \n  \n
URL:https://museodileventina.ch/event/corso-3-serata-la-leventina-e-il-san-gottardo-dalle-immagini-delle-vecchie-stampe-alla-realta-storica/
LOCATION:Centro di formazione ESI presso il complesso della Vecchia Biaschina\, Bodio\, Strada industriale\, Bodio\, Svizzera
ATTACH;FMTTYPE=image/jpeg:https://museodileventina.ch/wp-content/uploads/2016/08/acquatinta-4-da-Remo-scaled.jpg
END:VEVENT
END:VCALENDAR