BEGIN:VCALENDAR
VERSION:2.0
PRODID:-//Museo di Leventina - ECPv4.9.13//NONSGML v1.0//EN
CALSCALE:GREGORIAN
METHOD:PUBLISH
X-WR-CALNAME:Museo di Leventina
X-ORIGINAL-URL:https://museodileventina.ch
X-WR-CALDESC:Eventi per Museo di Leventina
BEGIN:VTIMEZONE
TZID:Europe/Zurich
BEGIN:DAYLIGHT
TZOFFSETFROM:+0100
TZOFFSETTO:+0200
TZNAME:CEST
DTSTART:20160327T010000
END:DAYLIGHT
BEGIN:STANDARD
TZOFFSETFROM:+0200
TZOFFSETTO:+0100
TZNAME:CET
DTSTART:20161030T010000
END:STANDARD
END:VTIMEZONE
BEGIN:VEVENT
DTSTART;TZID=Europe/Zurich:20161007T180000
DTEND;TZID=Europe/Zurich:20161007T200000
DTSTAMP:20260423T161844
CREATED:20160303T165550Z
LAST-MODIFIED:20161003T153652Z
UID:2667-1475863200-1475870400@museodileventina.ch
SUMMARY:“Paesaggi della velocità” - Infrastrutture di trasporto ed esperienza del viaggio nel mondo alpino
DESCRIPTION:Conferenza del Prof. Claudio Ferrata\, geografo. \nTemi trattati:\nOgni tecnica di trasporto porta con sé un paesaggio. Non solo ferrovia e autostrada hanno modificato il paesaggio e organizzato il territorio\, ma\, per il viaggiatore\, sono state all’origine di una nuova esperienza dello spazio. Con l’alta velocità ferroviaria questa esperienza è destinata nuovamente a modificarsi. \n \nEntrata gratuita. \nContatti\nMuseo di Leventina\nCasa Stanga\n6745 Giornico\nTel. +41 91 864 25 22\ninfo@museodileventina.ch\nwww.museodileventina.ch \n  \n
URL:https://museodileventina.ch/event/corso-4-serata-paesaggi-della-velocita-infrastrutture-di-trasporto-e-esperienza-del-viaggio-nel-mondo-alpino/
LOCATION:Centro di formazione ESI presso il complesso della Vecchia Biaschina\, Bodio\, Strada industriale\, Bodio\, Svizzera
ATTACH;FMTTYPE=image/jpeg:https://museodileventina.ch/wp-content/uploads/2016/08/IMG_0178.jpg
END:VEVENT
END:VCALENDAR