BEGIN:VCALENDAR
VERSION:2.0
PRODID:-//Museo di Leventina - ECPv4.9.13//NONSGML v1.0//EN
CALSCALE:GREGORIAN
METHOD:PUBLISH
X-WR-CALNAME:Museo di Leventina
X-ORIGINAL-URL:https://museodileventina.ch
X-WR-CALDESC:Eventi per Museo di Leventina
BEGIN:VTIMEZONE
TZID:Europe/Zurich
BEGIN:DAYLIGHT
TZOFFSETFROM:+0100
TZOFFSETTO:+0200
TZNAME:CEST
DTSTART:20170326T010000
END:DAYLIGHT
BEGIN:STANDARD
TZOFFSETFROM:+0200
TZOFFSETTO:+0100
TZNAME:CET
DTSTART:20171029T010000
END:STANDARD
END:VTIMEZONE
BEGIN:VEVENT
DTSTART;TZID=Europe/Zurich:20171129T140000
DTEND;TZID=Europe/Zurich:20171129T180000
DTSTAMP:20260424T041551
CREATED:20171023T172714Z
LAST-MODIFIED:20171023T172714Z
UID:3139-1511964000-1511978400@museodileventina.ch
SUMMARY:CORSO – I dolci tradizionali della Leventina: Le spampezie di Prato-Leventina.
DESCRIPTION:Corso con Mariateresa Coppa. \nIl corso per la preparazione dei dolci tradizionali leventinesi si svolge nella cucina del Museo di Leventina e dura 1 pomeriggio. \nDurante i corsi ogni partecipante potrà realizzare i propri dolci da portare a casa. \nCosto: 50.- CHF (per i soci 40.- CHF) per partecipante. \nIscrizioni entro: il 17 novembre 2017\, a info@museodileventina.ch\, oppure allo +41 91 864 25 22. \nUlteriori corsi possono essere organizzati anche su richiesta se si raggiunge un numero sufficiente di partecipanti (min. 5\, max. 12 persone). \n
URL:https://museodileventina.ch/event/corso-i-dolci-tradizionali-della-leventina-le-spampezie-di-prato-leventina/
LOCATION:nella cucina del Museo di Leventina
ATTACH;FMTTYPE=image/jpeg:https://museodileventina.ch/wp-content/uploads/2016/09/spampezie.jpg
END:VEVENT
END:VCALENDAR