BEGIN:VCALENDAR
VERSION:2.0
PRODID:-//Museo di Leventina - ECPv4.9.13//NONSGML v1.0//EN
CALSCALE:GREGORIAN
METHOD:PUBLISH
X-WR-CALNAME:Museo di Leventina
X-ORIGINAL-URL:https://museodileventina.ch
X-WR-CALDESC:Eventi per Museo di Leventina
BEGIN:VTIMEZONE
TZID:Europe/Zurich
BEGIN:DAYLIGHT
TZOFFSETFROM:+0100
TZOFFSETTO:+0200
TZNAME:CEST
DTSTART:20160327T010000
END:DAYLIGHT
BEGIN:STANDARD
TZOFFSETFROM:+0200
TZOFFSETTO:+0100
TZNAME:CET
DTSTART:20161030T010000
END:STANDARD
END:VTIMEZONE
BEGIN:VEVENT
DTSTART;TZID=Europe/Zurich:20161119T140000
DTEND;TZID=Europe/Zurich:20161119T170000
DTSTAMP:20260423T025913
CREATED:20160928T131931Z
LAST-MODIFIED:20161014T141650Z
UID:2851-1479564000-1479574800@museodileventina.ch
SUMMARY:CORSO: Le spampezie di Prato Leventina
DESCRIPTION:Con Mariateresa Coppa. \nIscrizioni entro:il 28 ottobre 2016. \nCosto: 50.- CHF (40.- per i soci del Museo di Leventina). \n
URL:https://museodileventina.ch/event/corso-le-spampezie-di-prato-leventina/
LOCATION:nella cucina del Museo di Leventina
ATTACH;FMTTYPE=image/jpeg:https://museodileventina.ch/wp-content/uploads/2016/09/spampezie.jpg
END:VEVENT
END:VCALENDAR