BEGIN:VCALENDAR
VERSION:2.0
PRODID:-//Museo di Leventina - ECPv4.9.13//NONSGML v1.0//EN
CALSCALE:GREGORIAN
METHOD:PUBLISH
X-WR-CALNAME:Museo di Leventina
X-ORIGINAL-URL:https://museodileventina.ch
X-WR-CALDESC:Eventi per Museo di Leventina
BEGIN:VTIMEZONE
TZID:Europe/Zurich
BEGIN:DAYLIGHT
TZOFFSETFROM:+0100
TZOFFSETTO:+0200
TZNAME:CEST
DTSTART:20180325T010000
END:DAYLIGHT
BEGIN:STANDARD
TZOFFSETFROM:+0200
TZOFFSETTO:+0100
TZNAME:CET
DTSTART:20181028T010000
END:STANDARD
END:VTIMEZONE
BEGIN:VEVENT
DTSTART;TZID=Europe/Zurich:20181117T140000
DTEND;TZID=Europe/Zurich:20181117T170000
DTSTAMP:20260423T090338
CREATED:20180504T111946Z
LAST-MODIFIED:20181019T121625Z
UID:3304-1542463200-1542474000@museodileventina.ch
SUMMARY:Corso: Spampezie di Prato Leventina
DESCRIPTION:\nCorso di cucina con Mariateresa Coppa. \nLe spampezie sono dolci locali leventinesi. Un tempo preparati solo per le occasioni particolari\, come feste religiose o sagre di paese\, oggi vengono confezionati soprattutto per le feste natalizie. Le ricette segrete e gli stampi in legno che servono alla loro preparazione sono ancora oggi tramandati da una generazione all’altra all’interno delle famiglie leventinesi. \nI differenti corsi di cucina per la preparazione dei dolci tradizionali leventinesi si svolgono nella cucina del Museo di Leventina durano 1 pomeriggio e possono essere organizzati su richiesta  anche in altre date se si raggiunge un numero sufficiente di partecipanti (min. 5\, max. 12 persone). \nDurante i corsi ogni partecipante potrà realizzare i propri dolci da portare a casa. \nCosto: 50.- CHF per partecipante. \nIscrizioni entro: una settimana prima dell’inizio del corso. \nScarica la locandina: 2018-11-10 locandina A4 Corsi crefli \n
URL:https://museodileventina.ch/event/corso-spampezie-di-prato-leventina/
LOCATION:nella cucina del Museo di Leventina
ATTACH;FMTTYPE=image/jpeg:https://museodileventina.ch/wp-content/uploads/2018/05/spampezie-e1634819829255.jpg
END:VEVENT
END:VCALENDAR