BEGIN:VCALENDAR
VERSION:2.0
PRODID:-//Museo di Leventina - ECPv4.9.13//NONSGML v1.0//EN
CALSCALE:GREGORIAN
METHOD:PUBLISH
X-WR-CALNAME:Museo di Leventina
X-ORIGINAL-URL:https://museodileventina.ch
X-WR-CALDESC:Eventi per Museo di Leventina
BEGIN:VTIMEZONE
TZID:Europe/Zurich
BEGIN:DAYLIGHT
TZOFFSETFROM:+0100
TZOFFSETTO:+0200
TZNAME:CEST
DTSTART:20170326T010000
END:DAYLIGHT
BEGIN:STANDARD
TZOFFSETFROM:+0200
TZOFFSETTO:+0100
TZNAME:CET
DTSTART:20171029T010000
END:STANDARD
END:VTIMEZONE
BEGIN:VEVENT
DTSTART;TZID=Europe/Zurich:20170401T140000
DTEND;TZID=Europe/Zurich:20170401T180000
DTSTAMP:20260422T190351
CREATED:20170124T164342Z
LAST-MODIFIED:20170322T095111Z
UID:2952-1491055200-1491069600@museodileventina.ch
SUMMARY:Costruiamo i "tablécch"
DESCRIPTION:Laboratorio con Robert Russi\, artigiano del legno.\nDurante la settimana santa\, a Faido (Valle Leventina) si perpetua l'usanza secolare di suonare i tablécch che\, in sostituzione delle campane\, annunciano le funzioni religiose\, l'ora di mezzogiorno e l'Avemaria serale. \nDurante un pomeriggio i partecipanti potranno costruire il proprio strumento e venire a conoscenza delle tradizioni legate al suo uso. \nCosto: \n50.- CHF adulti\, \n45.- CHF ragazzi (10-16 anni)\, \n35.- CHF bambini (7-9 anni)\, \ncoppia adulto con bambino 80.- CHF. \nSconto del 10% per i soci Museo di Leventina. \nIscrizione entro: venerdì 10 marzo 2017. Scarica il formulario d'iscrizione: 2017-04-01 Laboratorio tablècch - formulario iscrizione \nCompilare e consegnare il formulario alla segreteria del Museo di Leventina\, oppure spedire i dati per e-mail all'indirizzo: info@museodileventina.ch \nScarica: 2017-04-01 volantino A4 - Laboratorio tablécch \nUlteriori informazioni sulla processione con i tablécch di quest'anno: tablécch 2017  \n
URL:https://museodileventina.ch/event/costruiamo-i-tablecch/
LOCATION:Centro di formazione ESI presso il complesso della Vecchia Biaschina\, Bodio\, Strada industriale\, Bodio\, Svizzera
ATTACH;FMTTYPE=image/bmp:https://museodileventina.ch/wp-content/uploads/2017/01/2017-01-31-Foto-tablècch-da-Primi-in-luce.bmp
END:VEVENT
END:VCALENDAR