BEGIN:VCALENDAR
VERSION:2.0
PRODID:-//Museo di Leventina - ECPv4.9.13//NONSGML v1.0//EN
CALSCALE:GREGORIAN
METHOD:PUBLISH
X-WR-CALNAME:Museo di Leventina
X-ORIGINAL-URL:https://museodileventina.ch
X-WR-CALDESC:Eventi per Museo di Leventina
BEGIN:VTIMEZONE
TZID:Europe/Zurich
BEGIN:DAYLIGHT
TZOFFSETFROM:+0100
TZOFFSETTO:+0200
TZNAME:CEST
DTSTART:20180325T010000
END:DAYLIGHT
BEGIN:STANDARD
TZOFFSETFROM:+0200
TZOFFSETTO:+0100
TZNAME:CET
DTSTART:20181028T010000
END:STANDARD
END:VTIMEZONE
BEGIN:VEVENT
DTSTART;TZID=Europe/Zurich:20180310T140000
DTEND;TZID=Europe/Zurich:20180310T170000
DTSTAMP:20260424T132733
CREATED:20180119T133555Z
LAST-MODIFIED:20180125T155842Z
UID:3170-1520690400-1520701200@museodileventina.ch
SUMMARY:Crea il tuo museo
DESCRIPTION:Presentazione della collezione e possibilità di scegliere un oggetto che verrà esposto al pubblico nella prossima mostra temporanea. \nCon Diana Tenconi\, curatrice del Museo di Leventina; Alessandra Ferrini\, responsabile della collezione etnografica dello Stato\, Centro di dialettologia e di etnografia\, Bellinzona. \n \nIl progetto nell’anno del patrimonio culturale \nIl 2018 è stato sancito Anno europeo del patrimonio culturale e la Svizzera è una promotrice attiva attraverso diverse iniziative tra cui il progetto #Patrimonio2018. L’invito fatto a tutta la popolazione è di riflettere e rendersi conto del valore e dell’importanza del patrimonio culturale dal punto di vista sociale ed economico e di garantirne la continuità. \nTutti sono invitati a partecipare attivamente. Questo l’obbiettivo promosso anche dal Museo di Leventina che fa della partecipazione alla valorizzazione del proprio patrimonio il messaggio principale dell’iniziativa “Crea il tuo museo”. \nA tutti sarà offerta l’occasione di visitare i magazzini del museo e di scegliere\, tra le migliaia di oggetti della collezione\, quello più interessante\, particolare\, caratteristico o semplicemente più curioso. L’oggetto\, sarà in seguito esposto nella mostra temporanea prevista dal 28 aprile 2018 al Museo di Leventina. \nCome partecipare \nSe desiderate essere un “ospite del museo”\, basta iscriversi e partecipare così ad uno degli incontri che si svolgeranno il 10 febbraio e il 10 marzo 2018 al Museo di Leventina a Giornico. La richiesta di ulteriori informazioni e le iscrizioni possono essere fatte scrivendo a info@museodileventina.ch indicando nome\, cognome e numero di telefono\, oppure telefonando al numero 091 864 25 22. Ulteriori date per gli incontri potranno essere concordate con i responsabili del museo. \nScarica il dossier: 2018 Crea il tuo museo - Dossier \nScarica la locandina: 2018 Crea il tuo museo - Locandina \n
URL:https://museodileventina.ch/event/crea-il-tuo-museo-2/
LOCATION:Centro di formazione ESI presso il complesso della Vecchia Biaschina\, Bodio\, Strada industriale\, Bodio\, Svizzera
ATTACH;FMTTYPE=image/bmp:https://museodileventina.ch/wp-content/uploads/2018/01/2018-Mostra-Crea-il-tuo-museo-Immagine-sito.bmp
END:VEVENT
END:VCALENDAR