BEGIN:VCALENDAR
VERSION:2.0
PRODID:-//Museo di Leventina - ECPv4.9.13//NONSGML v1.0//EN
CALSCALE:GREGORIAN
METHOD:PUBLISH
X-WR-CALNAME:Museo di Leventina
X-ORIGINAL-URL:https://museodileventina.ch
X-WR-CALDESC:Eventi per Museo di Leventina
BEGIN:VTIMEZONE
TZID:Europe/Zurich
BEGIN:DAYLIGHT
TZOFFSETFROM:+0100
TZOFFSETTO:+0200
TZNAME:CEST
DTSTART:20170326T010000
END:DAYLIGHT
BEGIN:STANDARD
TZOFFSETFROM:+0200
TZOFFSETTO:+0100
TZNAME:CET
DTSTART:20171029T010000
END:STANDARD
END:VTIMEZONE
BEGIN:VEVENT
DTSTART;TZID=Europe/Zurich:20171014T100000
DTEND;TZID=Europe/Zurich:20171014T120000
DTSTAMP:20260423T151611
CREATED:20170814T091412Z
LAST-MODIFIED:20170814T091702Z
UID:3084-1507975200-1507982400@museodileventina.ch
SUMMARY:Faido e la Belle Époque: Visita guidata lungo il "sentiero dei lazzaroni"
DESCRIPTION:\n\n\n\n\n\n\nNel periodo della Belle époque (1896-1914) Faido divenne il terzo polo turistico del Cantone. I turisti che\, grazie alla costruzione della linea ferroviaria del San Gottardo poterono soggiornare a Faido\, appartenevano principalmente all’alta borghesia e alla nobiltà milanese. \nPartendo dai vecchi alberghi e ville risalenti a quell’epoca prospera\, il percorso si snoda lungo il panoramico “sentiero dei lazzaroni”\, frequentato dai turisti di quell’epoca. \nPer questa attività l'iscrizione è da fare presso "Corsi per adulti - TI" al nr. tel. 076/792 06 94 o per e-mail a: cpa.zanzi@gmail.com \nCosto: 35.- CHF \n
URL:https://museodileventina.ch/event/faido-e-la-belle-epoque-visita-guidata-lungo-il-sentiero-dei-lazzaroni/
LOCATION:Faido\, Stazione FFS
ATTACH;FMTTYPE=image/jpeg:https://museodileventina.ch/wp-content/uploads/2017/08/2017-07-16-Faido-5-web.jpg
END:VEVENT
END:VCALENDAR