BEGIN:VCALENDAR
VERSION:2.0
PRODID:-//Museo di Leventina - ECPv4.9.13//NONSGML v1.0//EN
CALSCALE:GREGORIAN
METHOD:PUBLISH
X-WR-CALNAME:Museo di Leventina
X-ORIGINAL-URL:https://museodileventina.ch
X-WR-CALDESC:Eventi per Museo di Leventina
BEGIN:VTIMEZONE
TZID:Europe/Zurich
BEGIN:DAYLIGHT
TZOFFSETFROM:+0100
TZOFFSETTO:+0200
TZNAME:CEST
DTSTART:20180325T010000
END:DAYLIGHT
BEGIN:STANDARD
TZOFFSETFROM:+0200
TZOFFSETTO:+0100
TZNAME:CET
DTSTART:20181028T010000
END:STANDARD
END:VTIMEZONE
BEGIN:VEVENT
DTSTART;TZID=Europe/Zurich:20180523T140000
DTEND;TZID=Europe/Zurich:20180523T160000
DTSTAMP:20260425T000914
CREATED:20180430T134943Z
LAST-MODIFIED:20180828T152141Z
UID:3242-1527084000-1527091200@museodileventina.ch
SUMMARY:GaM – Generazioni al museo
DESCRIPTION: \nINCONTRO TRA GENERAZIONI CON TÈ E BISCOTTI! \n«GaM – Generazioni al museo» è un'iniziativa del Percento culturale Migros volta a promuovere incontri tra generazioni nei musei. I partecipanti vivono un'esperienza museale originale e inconsueta: scelgono in coppia un oggetto della collezione esposta al museo\, inventano una storia e la raccontano agli altri partecipanti. Le manifestazioni GaM sono per tutte le età\, provenienza sociale e culturale. GaM è partner di «MiS – Musée imaginaire Suisse». \nEntrata gratuita per i partecipanti. \nIscrizioni entro: mercoledì 16 maggio 2018. \nGaM - Generazioni al museo \n2018-05-23 volantino A4 - GaM \n
URL:https://museodileventina.ch/event/gam-generazioni-al-museo-2/
LOCATION:Museo di Leventina\, Giornico
ATTACH;FMTTYPE=image/jpeg:https://museodileventina.ch/wp-content/uploads/2018/04/710_6840-web.jpg
END:VEVENT
END:VCALENDAR