BEGIN:VCALENDAR
VERSION:2.0
PRODID:-//Museo di Leventina - ECPv4.9.13//NONSGML v1.0//EN
CALSCALE:GREGORIAN
METHOD:PUBLISH
X-WR-CALNAME:Museo di Leventina
X-ORIGINAL-URL:https://museodileventina.ch
X-WR-CALDESC:Eventi per Museo di Leventina
BEGIN:VTIMEZONE
TZID:Europe/Zurich
BEGIN:DAYLIGHT
TZOFFSETFROM:+0100
TZOFFSETTO:+0200
TZNAME:CEST
DTSTART:20170326T010000
END:DAYLIGHT
BEGIN:STANDARD
TZOFFSETFROM:+0200
TZOFFSETTO:+0100
TZNAME:CET
DTSTART:20171029T010000
END:STANDARD
END:VTIMEZONE
BEGIN:VEVENT
DTSTART;TZID=Europe/Zurich:20170816T153000
DTEND;TZID=Europe/Zurich:20170816T170000
DTSTAMP:20260422T232907
CREATED:20170809T135231Z
LAST-MODIFIED:20170809T135231Z
UID:3059-1502897400-1502902800@museodileventina.ch
SUMMARY:GaM – Generazioni al museo
DESCRIPTION:INCONTRO TRA GENERAZIONI CON TÈ E BISCOTTI! \n«GaM – Generazioni al museo» è un'iniziativa del Percento culturale Migros volta a promuovere incontri tra generazioni nei musei. I partecipanti vivono un'esperienza museale originale e inconsueta: scelgono in coppia un oggetto della collezione esposta al museo\, inventano una storia e la raccontano agli altri partecipanti. Le manifestazioni GaM sono per tutte le età\, provenienza sociale e culturale. GaM è partner di «MiS – Musée imaginaire Suisse». \nEntrata gratuita per i partecipanti. \nIscrizioni entro: sabato 12 agosto 2017. \nGaM - Generazioni al museo \n \n
URL:https://museodileventina.ch/event/gam-generazioni-al-museo/
LOCATION:Centro di formazione ESI presso il complesso della Vecchia Biaschina\, Bodio\, Strada industriale\, Bodio\, Svizzera
ATTACH;FMTTYPE=image/jpeg:https://museodileventina.ch/wp-content/uploads/2017/08/GaM-logo.jpg
END:VEVENT
END:VCALENDAR