BEGIN:VCALENDAR
VERSION:2.0
PRODID:-//Museo di Leventina - ECPv4.9.13//NONSGML v1.0//EN
CALSCALE:GREGORIAN
METHOD:PUBLISH
X-WR-CALNAME:Museo di Leventina
X-ORIGINAL-URL:https://museodileventina.ch
X-WR-CALDESC:Eventi per Museo di Leventina
BEGIN:VTIMEZONE
TZID:Europe/Zurich
BEGIN:DAYLIGHT
TZOFFSETFROM:+0100
TZOFFSETTO:+0200
TZNAME:CEST
DTSTART:20160327T010000
END:DAYLIGHT
BEGIN:STANDARD
TZOFFSETFROM:+0200
TZOFFSETTO:+0100
TZNAME:CET
DTSTART:20161030T010000
END:STANDARD
END:VTIMEZONE
BEGIN:VEVENT
DTSTART;TZID=Europe/Zurich:20160522T140000
DTEND;TZID=Europe/Zurich:20160522T170000
DTSTAMP:20260424T190324
CREATED:20160121T172630Z
LAST-MODIFIED:20160518T145313Z
UID:2617-1463925600-1463936400@museodileventina.ch
SUMMARY:“Scoprite il vostro museo preferito” e lo spettacolo con Luzia Bonilla\, Mario Camani e il Gruppo Cornisti della Svizzera italiana
DESCRIPTION:Venite a scoprire il vostro museo preferito durante questa giornata di festa! Il 22 maggio\, Giornata internazionale dei musei\, è l’occasione giusta. \nProgramma: \n14:00 Apertura museo e entrata gratuita per tutti \n15:00 Spettacolo nella corte del Museo di Leventina "Nel Paese della Creanza…" con  con gli artisti Luzia Bonilla e Mario Camani e il Gruppo Cornisti della Svizzera italiana \n  \n \nIl Gruppo Cornisti della Svizzera italiana \n \nStrumento antichissimo\, il corno è stato impiegato per comunicare prima ancora che in musica. \nIl Gruppo Cornisti della Svizzera italiana promuove lo strumento sul territorio\, associando il suono cupo\, drammatico\, eroico all’eco dei nostri tempi. Il programma proposto collega l’armonia musicale alla virtuosità di cui l’Uomo sa dar prova\, se compie gesti semplici e ben fatti. \nGli artisti Luzia Bonilla e Mario Camani \n \nSono musicisti bizzarri o artisti da circo i due personaggi che si presentano sul palco? \nDalle prime battute sembra piuttosto di assistere a un concerto. Brani musicali e autori sono annunciati in pompa magna anche se l'esecuzione non é proprio quella abituale per una sala da concerto. Un variété divertente e sorprendente per tutta la famiglia. \nEntrata libera al museo e allo spettacolo. \n
URL:https://museodileventina.ch/event/giornata-internazionale-dei-musei-2/
LOCATION:Centro di formazione ESI presso il complesso della Vecchia Biaschina\, Bodio\, Strada industriale\, Bodio\, Svizzera
END:VEVENT
END:VCALENDAR