BEGIN:VCALENDAR
VERSION:2.0
PRODID:-//Museo di Leventina - ECPv4.9.13//NONSGML v1.0//EN
CALSCALE:GREGORIAN
METHOD:PUBLISH
X-WR-CALNAME:Museo di Leventina
X-ORIGINAL-URL:https://museodileventina.ch
X-WR-CALDESC:Eventi per Museo di Leventina
BEGIN:VTIMEZONE
TZID:Europe/Zurich
BEGIN:DAYLIGHT
TZOFFSETFROM:+0100
TZOFFSETTO:+0200
TZNAME:CEST
DTSTART:20180325T010000
END:DAYLIGHT
BEGIN:STANDARD
TZOFFSETFROM:+0200
TZOFFSETTO:+0100
TZNAME:CET
DTSTART:20181028T010000
END:STANDARD
END:VTIMEZONE
BEGIN:VEVENT
DTSTART;TZID=Europe/Zurich:20180811T200000
DTEND;TZID=Europe/Zurich:20180811T230000
DTSTAMP:20260425T113240
CREATED:20180503T131808Z
LAST-MODIFIED:20180730T085316Z
UID:3265-1534017600-1534028400@museodileventina.ch
SUMMARY:Gran serata all’ex-Hotel Milano e conferenza di Michael Jakob
DESCRIPTION:Programma: \n20.00 Conferenza sulla luce e il paesaggio\ncon il Prof. Michael Jakob\, Università di Grenoble\, HEPIA di Ginevra\, EPFL di Losanna\, Accademia di Architettura di Mendrisio e GSD della Harvard University. \n21.00 Festa danzante con il complesso Old Folks.\nNella magica atmosfera Belle Époque del salone delle feste con la musica dal vivo del complesso Old Folks composto da Giotto Piemontesi\, fisarmonica\, Bixio Stefanoni\, contrabbasso\, Daniele Fri\, saxofono e Valerio Felice\, batteria. \nDurante la serata sarà in funzione il bar. \nEntrata: 10.- CHF. \n  \n \n \n
URL:https://museodileventina.ch/event/gran-serata-allex-hotel-milano-e-conferenza-di-michael-jakob/
LOCATION:ex-Hotel Milano\, Faido
ATTACH;FMTTYPE=image/jpeg:https://museodileventina.ch/wp-content/uploads/2018/05/foto-Hotel-Milano-Faido-web-rotated.jpg
END:VEVENT
END:VCALENDAR