BEGIN:VCALENDAR
VERSION:2.0
PRODID:-//Museo di Leventina - ECPv4.9.13//NONSGML v1.0//EN
CALSCALE:GREGORIAN
METHOD:PUBLISH
X-WR-CALNAME:Museo di Leventina
X-ORIGINAL-URL:https://museodileventina.ch
X-WR-CALDESC:Eventi per Museo di Leventina
BEGIN:VTIMEZONE
TZID:Europe/Zurich
BEGIN:DAYLIGHT
TZOFFSETFROM:+0100
TZOFFSETTO:+0200
TZNAME:CEST
DTSTART:20150329T010000
END:DAYLIGHT
BEGIN:STANDARD
TZOFFSETFROM:+0200
TZOFFSETTO:+0100
TZNAME:CET
DTSTART:20151025T010000
END:STANDARD
END:VTIMEZONE
BEGIN:VEVENT
DTSTART;TZID=Europe/Zurich:20151104T153000
DTEND;TZID=Europe/Zurich:20151104T190000
DTSTAMP:20260426T025102
CREATED:20150828T150107Z
LAST-MODIFIED:20151021T123041Z
UID:2484-1446651000-1446663600@museodileventina.ch
SUMMARY:I crèfli di Giornico
DESCRIPTION:Corso con Mirena Giudici. \nNella cucina del Museo di Leventina \nData la forte adesione\, il corso con Mirena Giudici sarà replicato l'11 novembre 2015.\nCosto per serata 50.- CHF (per i soci 40.- CHF).\nIscrizione entro: mercoledì 28.10.2015. \n
URL:https://museodileventina.ch/event/i-crefli-di-ambri/
LOCATION:Centro di formazione ESI presso il complesso della Vecchia Biaschina\, Bodio\, Strada industriale\, Bodio\, Svizzera
END:VEVENT
END:VCALENDAR