BEGIN:VCALENDAR
VERSION:2.0
PRODID:-//Museo di Leventina - ECPv4.9.13//NONSGML v1.0//EN
CALSCALE:GREGORIAN
METHOD:PUBLISH
X-WR-CALNAME:Museo di Leventina
X-ORIGINAL-URL:https://museodileventina.ch
X-WR-CALDESC:Eventi per Museo di Leventina
BEGIN:VTIMEZONE
TZID:Europe/Zurich
BEGIN:DAYLIGHT
TZOFFSETFROM:+0100
TZOFFSETTO:+0200
TZNAME:CEST
DTSTART:20180325T010000
END:DAYLIGHT
BEGIN:STANDARD
TZOFFSETFROM:+0200
TZOFFSETTO:+0100
TZNAME:CET
DTSTART:20181028T010000
END:STANDARD
END:VTIMEZONE
BEGIN:VEVENT
DTSTART;VALUE=DATE:20180609
DTEND;VALUE=DATE:20180610
DTSTAMP:20260425T020202
CREATED:20180430T151329Z
LAST-MODIFIED:20180515T122442Z
UID:3251-1528502400-1528588799@museodileventina.ch
SUMMARY:I depositi del Museo Nazionale Svizzero
DESCRIPTION:Visita guidata al Centro delle collezioni del Museo Nazionale Svizzero.\nIl Museo nazionale svizzero possiede una pregevole collezione dedicata alla storia culturale e alle arti decorative in Svizzera\, dalle origini sino ai giorni nostri. Oltre 840'000 oggetti distribuiti in 14 sezioni specifiche e provenienti da tutte le regioni svizzere. Tra di essi diversi esempi tra più belli ed interessanti in questi ambiti. Le collezioni costituiscono inoltre la fonte e il punto di partenza di attività di ricerca e sviluppo del museo. \nPunto di particolare interesse della visita saranno gli oggetti e i tesori provenienti dalla Leventina. \n  \nProgramma\nAl mattino: Visita guidata del Centro delle collezioni con uno specialista del Museo Nazionale Svizzero. \nPranzo: presso il museo del giocattolo Pegasus. \nPomeriggio Visita libera del museo del giocattolo Pegasus e rientro in Ticino. \nCosto: 90.- CHF (soci 80.- CHF; bambini e ragazzi sotto i 16 anni 60.- CHF). Il prezzo comprende il viaggio in torpedone\, la visita guidata e il pranzo. \nIscrizione entro: venerdì 25 maggio 2018.\nScarica il volantino: 2018-06-09 volantino A4 - Gita Centro delle collezioni1 \n
URL:https://museodileventina.ch/event/i-depositi-del-museo-nazionale-svizzero/
LOCATION:Affoltern am Albis
ATTACH;FMTTYPE=image/png:https://museodileventina.ch/wp-content/uploads/2018/04/Immagine1.png
END:VEVENT
END:VCALENDAR