BEGIN:VCALENDAR
VERSION:2.0
PRODID:-//Museo di Leventina - ECPv4.9.13//NONSGML v1.0//EN
CALSCALE:GREGORIAN
METHOD:PUBLISH
X-WR-CALNAME:Museo di Leventina
X-ORIGINAL-URL:https://museodileventina.ch
X-WR-CALDESC:Eventi per Museo di Leventina
BEGIN:VTIMEZONE
TZID:Europe/Zurich
BEGIN:DAYLIGHT
TZOFFSETFROM:+0100
TZOFFSETTO:+0200
TZNAME:CEST
DTSTART:20170326T010000
END:DAYLIGHT
BEGIN:STANDARD
TZOFFSETFROM:+0200
TZOFFSETTO:+0100
TZNAME:CET
DTSTART:20171029T010000
END:STANDARD
END:VTIMEZONE
BEGIN:VEVENT
DTSTART;TZID=Europe/Zurich:20171118T140000
DTEND;TZID=Europe/Zurich:20171118T173000
DTSTAMP:20260423T225405
CREATED:20170914T141534Z
LAST-MODIFIED:20171023T173205Z
UID:3123-1511013600-1511026200@museodileventina.ch
SUMMARY:CORSO - I dolci tradizionali della Leventina: I crèfli di Airolo
DESCRIPTION:Corso con Benedetta e Giorgio Ceresa. \nIl corso per la preparazione dei dolci tradizionali leventinesi si svolge nella cucina del Museo di Leventina e dura 1 pomeriggio. \nDurante i corsi ogni partecipante potrà realizzare i propri dolci da portare a casa. \nCosto: 50.- CHF (per i soci 40.- CHF) per partecipante. \nIscrizioni entro: il 3 novembre 2017\, a info@museodileventina.ch\, oppure allo +41 91 864 25 22. \nUlteriori corsi possono essere organizzati anche su richiesta se si raggiunge un numero sufficiente di partecipanti (min. 5\, max. 12 persone). \n
URL:https://museodileventina.ch/event/i-dolci-tradizionali-della-leventina-crefli-e-spampezie-2/
LOCATION:nella cucina del Museo di Leventina
ATTACH;FMTTYPE=image/jpeg:https://museodileventina.ch/wp-content/uploads/2015/08/crefli.jpg
END:VEVENT
END:VCALENDAR