BEGIN:VCALENDAR
VERSION:2.0
PRODID:-//Museo di Leventina - ECPv4.9.13//NONSGML v1.0//EN
CALSCALE:GREGORIAN
METHOD:PUBLISH
X-WR-CALNAME:Museo di Leventina
X-ORIGINAL-URL:https://museodileventina.ch
X-WR-CALDESC:Eventi per Museo di Leventina
BEGIN:VTIMEZONE
TZID:Europe/Zurich
BEGIN:DAYLIGHT
TZOFFSETFROM:+0100
TZOFFSETTO:+0200
TZNAME:CEST
DTSTART:20180325T010000
END:DAYLIGHT
BEGIN:STANDARD
TZOFFSETFROM:+0200
TZOFFSETTO:+0100
TZNAME:CET
DTSTART:20181028T010000
END:STANDARD
END:VTIMEZONE
BEGIN:VEVENT
DTSTART;TZID=Europe/Zurich:20180610T110000
DTEND;TZID=Europe/Zurich:20180610T121500
DTSTAMP:20260425T040629
CREATED:20180430T155403Z
LAST-MODIFIED:20180605T084747Z
UID:3255-1528628400-1528632900@museodileventina.ch
SUMMARY:I tesori di Chiggiogna
DESCRIPTION:Visita guidata con Alessandra Giussani\, storica dell'arte. \nVISITA DELLA CHIESA E DEI DINTORNI DI SANTA MARIA ASSUNTA DI CHIGGIOGNA.\nLa visita guidata\, sarà l’occasione per condividere l’esplorazione del centenario monumento di Santa Maria Assunta\, con i suoi dipinti\, i suoi oggetti d’arte e liturgici\, il suo cimitero e la sua cappella. Ripercorrendo insieme alcuni aspetti della sua storia\, ci caleremo per qualche momento nella creatività e nella fede della popolazione che nei secoli realizzò questi manufatti. \n \nAlessandra Giussani\, cresciuta a Chiggiogna\, è docente di storia dell’arte al Liceo cantonale di Lugano e organizzatrice e accompagnatrice di Viaggi d’arte e dell’anima. \n \nRitrovo: ore 11.00 sul piazzale del ristorante La Conca\, di fronte all'uscita dell'autostrada a Chiggiogna. \nLa visita è gratuita.\n \n
URL:https://museodileventina.ch/event/i-tesori-di-chiggiogna/
LOCATION:Chiggiogna
ATTACH;FMTTYPE=image/jpeg:https://museodileventina.ch/wp-content/uploads/2018/04/Assunta_Chiggiogna_54.jpg
END:VEVENT
END:VCALENDAR