BEGIN:VCALENDAR
VERSION:2.0
PRODID:-//Museo di Leventina - ECPv4.9.13//NONSGML v1.0//EN
CALSCALE:GREGORIAN
METHOD:PUBLISH
X-WR-CALNAME:Museo di Leventina
X-ORIGINAL-URL:https://museodileventina.ch
X-WR-CALDESC:Eventi per Museo di Leventina
BEGIN:VTIMEZONE
TZID:Europe/Zurich
BEGIN:DAYLIGHT
TZOFFSETFROM:+0100
TZOFFSETTO:+0200
TZNAME:CEST
DTSTART:20160327T010000
END:DAYLIGHT
BEGIN:STANDARD
TZOFFSETFROM:+0200
TZOFFSETTO:+0100
TZNAME:CET
DTSTART:20161030T010000
END:STANDARD
END:VTIMEZONE
BEGIN:VEVENT
DTSTART;TZID=Europe/Zurich:20160512T200000
DTEND;TZID=Europe/Zurich:20160512T220000
DTSTAMP:20260424T234901
CREATED:20160303T102912Z
LAST-MODIFIED:20160429T095158Z
UID:2655-1463083200-1463090400@museodileventina.ch
SUMMARY:Il generale Suvorov\, 1799. Un esercito russo attraversa la Leventina
DESCRIPTION:Conferenza con il Dr. Fabrizio Viscontini\, storico \n \nScarica: Il generale Suvorov - 1799 \n
URL:https://museodileventina.ch/event/il-generale-suvorov-1799-un-esercito-russo-attraverso-la-leventina/
LOCATION:Aula Magna\, Centro Scolastico\, Faido\, Svizzera
ATTACH;FMTTYPE=image/bmp:https://museodileventina.ch/wp-content/uploads/2016/03/Nuova-immagine-2.bmp
END:VEVENT
END:VCALENDAR