BEGIN:VCALENDAR
VERSION:2.0
PRODID:-//Museo di Leventina - ECPv4.9.13//NONSGML v1.0//EN
CALSCALE:GREGORIAN
METHOD:PUBLISH
X-WR-CALNAME:Museo di Leventina
X-ORIGINAL-URL:https://museodileventina.ch
X-WR-CALDESC:Eventi per Museo di Leventina
BEGIN:VTIMEZONE
TZID:Europe/Zurich
BEGIN:DAYLIGHT
TZOFFSETFROM:+0100
TZOFFSETTO:+0200
TZNAME:CEST
DTSTART:20160327T010000
END:DAYLIGHT
BEGIN:STANDARD
TZOFFSETFROM:+0200
TZOFFSETTO:+0100
TZNAME:CET
DTSTART:20161030T010000
END:STANDARD
END:VTIMEZONE
BEGIN:VEVENT
DTSTART;TZID=Europe/Zurich:20161012T180000
DTEND;TZID=Europe/Zurich:20161012T200000
DTSTAMP:20260423T143338
CREATED:20160303T105729Z
LAST-MODIFIED:20161009T081750Z
UID:2611-1476295200-1476302400@museodileventina.ch
SUMMARY:Il recupero delle testimonianze storiche sulla via delle Genti - Dai pionieri della protezione del paesaggio ai progetti futuri.
DESCRIPTION:Presentazione del lavoro della Pro Media Leventina.\n \nCon i rappresentanti della Pro Media Leventina: \nNicola Cappelletti\, presidente\, Fabio Janner\, ingegnere urbanista\, Christian Trachsel\, cassiere e rappresentante della fam. Steiner\, Dr. Fabrizio Viscontini\, storico\, Sergio Pedrini. \nDai pionieri della protezione del paesaggio ai progetti futuri. \nDurante la serata i rappresentanti della Pro Media Leventina spiegheranno i nuovi progetti e condurranno i presenti attraverso la storia della fondazione. Presentando personaggi\, obbiettivi e motivazioni che hanno spinto gli iniziatori a promuovere il ripristino e la protezione del paesaggio lungo alcune vie storiche della Media Valle. \nLa Pro Media Leventina ha ripreso e continuato l’attività iniziata una quarantina d’anni fa da Rodolfo Steiner\, dal dottor D’Alessandri e dall’ex segretario Pedrini\, a favore della conoscenza e della valorizzazione del paesaggio locale. Essa ha realizzato e sta realizzando progetti di recupero delle vie storiche e dei comparti più significativi dal profilo culturale della MediaLeventina. \n Entrata gratuita. \n
URL:https://museodileventina.ch/event/il-recupero-delle-testimonianze-storiche-sulla-via-delle-genti/
LOCATION:Centro di formazione ESI presso il complesso della Vecchia Biaschina\, Bodio\, Strada industriale\, Bodio\, Svizzera
ATTACH;FMTTYPE=image/jpeg:https://museodileventina.ch/wp-content/uploads/2016/03/2016-ProMediaLeventina-sito.jpg
END:VEVENT
END:VCALENDAR