BEGIN:VCALENDAR
VERSION:2.0
PRODID:-//Museo di Leventina - ECPv4.9.13//NONSGML v1.0//EN
CALSCALE:GREGORIAN
METHOD:PUBLISH
X-WR-CALNAME:Museo di Leventina
X-ORIGINAL-URL:https://museodileventina.ch
X-WR-CALDESC:Eventi per Museo di Leventina
BEGIN:VTIMEZONE
TZID:Europe/Zurich
BEGIN:DAYLIGHT
TZOFFSETFROM:+0100
TZOFFSETTO:+0200
TZNAME:CEST
DTSTART:20160327T010000
END:DAYLIGHT
BEGIN:STANDARD
TZOFFSETFROM:+0200
TZOFFSETTO:+0100
TZNAME:CET
DTSTART:20161030T010000
END:STANDARD
END:VTIMEZONE
BEGIN:VEVENT
DTSTART;TZID=Europe/Zurich:20160618T140000
DTEND;TZID=Europe/Zurich:20160618T170000
DTSTAMP:20260424T134018
CREATED:20160601T133329Z
LAST-MODIFIED:20160614T113159Z
UID:2747-1466258400-1466269200@museodileventina.ch
SUMMARY:Inizio del corso di stampa con la tecnica della calcografia
DESCRIPTION:Con Laura Signorini. \nIl corso si terrà durante tre incontri: sabato 18\, 25 giugno e 2 luglio\, nel laboratorio del museo\, 14.00-17.00. \nGli interessati al corso sono pregati di annunciarsi subito\, scrivendo o telefonando al museo (091 864 25 22\, info@museodileventina.ch). \nLa calcografia\nQuesta tecnica si avvale di un supporto metallico (può variare tra rame\, zinco\, ottone\,…) e l’incisione può essere eseguita con varie tecniche\, scalfendo direttamente la lastra che produrrà la stampa con gli appositi strumenti e tecniche\, oppure mediante l’impiego di acidi. \nProgramma del corso\nPrimo incontro sabato 18 giugno: breve introduzione storica seguita da una parte teorica che fornirà al partecipante un ventaglio molto vasto delle tecniche e degli strumenti – scelta del soggetto che si vuole realizzare. \nSecondo incontro sabato 25 giugno: realizzazione dell’incisione sul materiale specifico (metallo o linoleum). \nTerzo incontro sabato 2 luglio: ultimazione del progetto e stampa con il torchio. \nIl materiale di stampa e gli strumenti verranno forniti dal Museo e sono compresi nel prezzo. \nApprofondimenti:\nSu richiesta dei partecipanti\, potranno essere organizzati degli incontri di approfondimento delle tecniche\, nei quali si imparerà a stampare con più colori. \nContatti e iscrizioni\nGli interessati al corso sono pregati di annunciarsi subito\, scrivendo o telefonando al museo: \n+41 91 864 25 22 \n+41 78 731 46 26 \ninfo@museodileventina.ch \n
URL:https://museodileventina.ch/event/inizio-corso-di-calcografia/
LOCATION:Centro di formazione ESI presso il complesso della Vecchia Biaschina\, Bodio\, Strada industriale\, Bodio\, Svizzera
ATTACH;FMTTYPE=image/jpeg:https://museodileventina.ch/wp-content/uploads/2016/06/2016-Laura-Signorini.jpg
END:VEVENT
END:VCALENDAR