BEGIN:VCALENDAR
VERSION:2.0
PRODID:-//Museo di Leventina - ECPv4.9.13//NONSGML v1.0//EN
CALSCALE:GREGORIAN
METHOD:PUBLISH
X-WR-CALNAME:Museo di Leventina
X-ORIGINAL-URL:https://museodileventina.ch
X-WR-CALDESC:Eventi per Museo di Leventina
BEGIN:VTIMEZONE
TZID:Europe/Zurich
BEGIN:DAYLIGHT
TZOFFSETFROM:+0100
TZOFFSETTO:+0200
TZNAME:CEST
DTSTART:20180325T010000
END:DAYLIGHT
BEGIN:STANDARD
TZOFFSETFROM:+0200
TZOFFSETTO:+0100
TZNAME:CET
DTSTART:20181028T010000
END:STANDARD
END:VTIMEZONE
BEGIN:VEVENT
DTSTART;TZID=Europe/Zurich:20181004T180000
DTEND;TZID=Europe/Zurich:20181004T200000
DTSTAMP:20260423T235205
CREATED:20180503T150502Z
LAST-MODIFIED:20180903T141544Z
UID:3280-1538676000-1538683200@museodileventina.ch
SUMMARY:Inizio del corso: Storia della Leventina alla luce delle ultime ricerche storiche
DESCRIPTION: \nCorso in tre serate (4\, 11 e 18 ottobre 2018) con il Dr. Fabrizio Viscontini\, storico. \nIn questo corso sarà approfondita la storia della Leventina dai primi insediamenti umani fino ai nostri giorni. \nPrima serata\nGiovedì 4 ottobre 2018\nSala conferenze\, Museo di Leventina\n18.00 inizio corso\n19:00-19.15 pausa e rinfresco offerto\n20.00 conclusione \nLa prima serata sarà dedicata alla tarda antichità\, con i ritrovamenti delle tombe della prima età del ferro (VI sec. a.C.)\, al passaggio della Valle sotto il controllo politico e spirituale dei canonici del Duomo di Milano nel 948\, alle conseguenze dell’apertura del Passo del San Gottardo al grande traffico internazionale e all’organizzazione viciniale. Si parlerà della specializzazione agropastorale. \nSeconda serata\nGiovedì 11 ottobre 2018\nSala conferenze\, Museo di Leventina\n18.00 inizio corso\n19:00-19.15 pausa e rinfresco offerto\n20.00 conclusione \nLa seconda serata riguarderà il periodo della dominazione urana con i tentativi di ridurre le franchigie della Valle a partire dal 1602 a cui si contrapporrà la nascita di un’identità leventinese. Ci si soffermerà sulla “Rivolta” - in realtà si trattò di una protesta - del 1755 e sulla “Guerra delle forcelle” (l’insurrezione antifrancese del maggio 1799). Saranno approfonditi alcuni aspetti economici: allevamento del bestiame\, commercio del legname\, servizio mercenario e i prestiti contratti dai Leventinesi. \nTerza serata\nGiovedì 18 ottobre 2018\nSala conferenze\, Museo di Leventina\n18.00 inizio corso\n19:00-19.15 pausa e rinfresco offerto\n20.00 conclusione \nNella terza serata si affronterà il tema della modernizzazione\, con le conseguenze della costruzione della strada carrozzabile prima\, della linea ferroviaria del San Gottardo in seguito e dell’arrivo della Seconda rivoluzione industriale classica (motore a scoppio\, elettricità e chimica di sintesi). Particolare attenzione sarà data anche all’apertura delle cave e allo sviluppo del settore turistico. Si parlerà inoltre dei cambiamenti portati dal “boom economico” e delle sfide attuali. \nCosto: 60.- CHF per le tre serate. \nIscrizioni entro: giovedì 27 settembre 2018\, scrivendo a: info@museodileventina.ch\no chiamando il nr. +41 91 864 25 2. \n
URL:https://museodileventina.ch/event/inizio-del-corso-storia-della-leventina-alla-luce-delle-ultime-ricerche-storiche/
LOCATION:Museo di Leventina\, Giornico
ATTACH;FMTTYPE=image/jpeg:https://museodileventina.ch/wp-content/uploads/2018/05/acquatinta-3-da-Remo-ritaglio-web.jpg
END:VEVENT
END:VCALENDAR