BEGIN:VCALENDAR
VERSION:2.0
PRODID:-//Museo di Leventina - ECPv4.9.13//NONSGML v1.0//EN
CALSCALE:GREGORIAN
METHOD:PUBLISH
X-WR-CALNAME:Museo di Leventina
X-ORIGINAL-URL:https://museodileventina.ch
X-WR-CALDESC:Eventi per Museo di Leventina
BEGIN:VTIMEZONE
TZID:Europe/Zurich
BEGIN:DAYLIGHT
TZOFFSETFROM:+0100
TZOFFSETTO:+0200
TZNAME:CEST
DTSTART:20170326T010000
END:DAYLIGHT
BEGIN:STANDARD
TZOFFSETFROM:+0200
TZOFFSETTO:+0100
TZNAME:CET
DTSTART:20171029T010000
END:STANDARD
END:VTIMEZONE
BEGIN:VEVENT
DTSTART;TZID=Europe/Zurich:20171110T191500
DTEND;TZID=Europe/Zurich:20171110T210000
DTSTAMP:20260423T205615
CREATED:20170809T155107Z
LAST-MODIFIED:20170809T155911Z
UID:3071-1510341300-1510347600@museodileventina.ch
SUMMARY:La notte del racconto. Racconti per bambini sul tema: il CORAGGIO!
DESCRIPTION:IL TEMA: Il coraggio.\n"Tieni per te le tue paure\, ma condividi con gli altri il tuo coraggio"\, così ebbe a dire il romanziere scozzese Robert l. Stevenson autore dell'indimenticato romanzo "L'isola del tesoro"\, un classico della letteratura in cui il coraggio la fa decisamente da padrone. Ma il coraggio non è solo affrontare avventure epiche\, è anche una virtù umana con la quale tutti abbiamo a che fare nel corso della nostra vita e che usiamo nelle faccende di ogni giorno. Grandi o piccole dosi di coraggio ci sono richieste in mille situazioni quando\, ad esempio\, affrontiamo sport estremi\, quando siamo combattuti nel raccontare o meno una verità scomoda\, quando dobbiamo affrontare e denunciare atti di bullismo\, quando dobbiamo chiudere un rapporto d'amore o di amicizia\, quando dobbiamo superare paure come quelle di volare\, del vuoto o del buio. Ci sono forme di coraggio che possiamo definire "morali"\, quando confrontati con la vergogna o lo scandalo\, e forme di coraggio "fisiche"\, quando confrontati con il dolore fisico o con prove dure da superare. In ogni attimo della nostra vita una particella di coraggio c'è richiesta per effettuare determinate azioni a favore nostro o degli altri. Quella del coraggio è dunque una grande virtù; una virtù che con la "Notte del racconto" 2017 vorremmo esaltare e portare al centro dell'attenzione grazie alle mille narrazioni che contengono atti di coraggio eclatanti o\, semplicemente\, piccoli atti di eroismo più discreti come quelli che conducono al perdono; perdono che\, come dice Gandhi\, è la qualità del coraggioso non del codardo.\n \nLa serata sarà accompagnata da te e biscotti. \nEntrata libera. \n
URL:https://museodileventina.ch/event/la-notte-del-racconto-racconti-per-bambini-sul-tema-il-coraggio/
LOCATION:Centro di formazione ESI presso il complesso della Vecchia Biaschina\, Bodio\, Strada industriale\, Bodio\, Svizzera
ATTACH;FMTTYPE=image/png:https://museodileventina.ch/wp-content/uploads/2017/08/Manifesto_NDR_207.png
END:VEVENT
END:VCALENDAR