BEGIN:VCALENDAR
VERSION:2.0
PRODID:-//Museo di Leventina - ECPv4.9.13//NONSGML v1.0//EN
CALSCALE:GREGORIAN
METHOD:PUBLISH
X-WR-CALNAME:Museo di Leventina
X-ORIGINAL-URL:https://museodileventina.ch
X-WR-CALDESC:Eventi per Museo di Leventina
BEGIN:VTIMEZONE
TZID:Europe/Zurich
BEGIN:DAYLIGHT
TZOFFSETFROM:+0100
TZOFFSETTO:+0200
TZNAME:CEST
DTSTART:20160327T010000
END:DAYLIGHT
BEGIN:STANDARD
TZOFFSETFROM:+0200
TZOFFSETTO:+0100
TZNAME:CET
DTSTART:20161030T010000
END:STANDARD
END:VTIMEZONE
BEGIN:VEVENT
DTSTART;TZID=Europe/Zurich:20160812T200000
DTEND;TZID=Europe/Zurich:20160812T230000
DTSTAMP:20260424T062328
CREATED:20160121T131443Z
LAST-MODIFIED:20160803T100837Z
UID:2609-1471032000-1471042800@museodileventina.ch
SUMMARY:La notte delle stelle
DESCRIPTION: Aperitivo in musica nel cortile del museo e osservazione delle stelle cadenti. \nIntrattenimento musicale con la Famiglia Felice. \n  \nEntrata gratuita. \n2016-08-12 volantino - La notte delle stelle \n
URL:https://museodileventina.ch/event/la-notte-delle-stelle-2/
LOCATION:Centro di formazione ESI presso il complesso della Vecchia Biaschina\, Bodio\, Strada industriale\, Bodio\, Svizzera
ATTACH;FMTTYPE=image/jpeg:https://museodileventina.ch/wp-content/uploads/2016/01/2016-08-12-La-notte-delle-stelle.jpg
END:VEVENT
END:VCALENDAR