BEGIN:VCALENDAR
VERSION:2.0
PRODID:-//Museo di Leventina - ECPv4.9.13//NONSGML v1.0//EN
CALSCALE:GREGORIAN
METHOD:PUBLISH
X-WR-CALNAME:Museo di Leventina
X-ORIGINAL-URL:https://museodileventina.ch
X-WR-CALDESC:Eventi per Museo di Leventina
BEGIN:VTIMEZONE
TZID:Europe/Zurich
BEGIN:DAYLIGHT
TZOFFSETFROM:+0100
TZOFFSETTO:+0200
TZNAME:CEST
DTSTART:20170326T010000
END:DAYLIGHT
BEGIN:STANDARD
TZOFFSETFROM:+0200
TZOFFSETTO:+0100
TZNAME:CET
DTSTART:20171029T010000
END:STANDARD
END:VTIMEZONE
BEGIN:VEVENT
DTSTART;TZID=Europe/Zurich:20170812T200000
DTEND;TZID=Europe/Zurich:20170812T230000
DTSTAMP:20260422T193358
CREATED:20170314T164847Z
LAST-MODIFIED:20170712T145126Z
UID:2994-1502568000-1502578800@museodileventina.ch
SUMMARY:La notte delle stelle: Pietro Bianchi e Roberto Maggini - CANTI E MUSICHE POPOLARI IN TICINO
DESCRIPTION:Concerto con Pietro Bianchi e Roberto Maggini. \nPietro Bianchi e Roberto Maggini suonano insieme dal 1982. Si sono incontrati la prima volta in una manifestazione musicale a Bellinzona e qualche sera dopo già si esibivano sul palco del Kleintheater di Emil Steinberger a Lucerna. Questa intesa a fior di pelle è dovuta forse al fatto che nelle rispettive famiglie si era sempre cantato\, ma anche alle precedenti e ricche esperienze musicali di ambedue. Roberto cantava già repertorio ticinese e lombardo con Dimitri\, mentre Pietro era già leader di una formazione nata in Francia durante i suoi studi universitari: Lyonesse. \nI due musicisti propongono il materiale\, tutto desunto dalla pratica popolare\, con un sapore di autenticità pur in esecuzioni che non vogliono fare il verso a quelle dei veri cantori e suonatori della tradizione. I brani da loro eseguiti costituiscono un vivo ritratto della pratica musicale ticinese\, con pezzi strumentali\, canti e ballate. \n  \nIl concerto si terrà nel giardino a terrazza del Museo di Leventina\, sotto il cielo d’agosto\, aspettando le stelle cadenti. \nPer l’occasione ci si potrà rinfrescare con vini e bibite locali. \nIn caso di brutto tempo\, la manifestazione si terrà\, nella sala conferenze. \nL’entrata è libera. \n2017-08-12 volantino A4 - La notte delle stelle2 \nChi sono Pietro Bianchi e Roberto Maggini? \n  \n
URL:https://museodileventina.ch/event/la-notte-delle-stelle-pietro-bianchi-e-roberto-maggini-omaggio-a-dimitri-canti-e-musiche-popolari-in-ticino/
LOCATION:nel giardino terrazza del Museo di Leventina
ATTACH;FMTTYPE=image/jpeg:https://museodileventina.ch/wp-content/uploads/2017/03/foto-bianchi-maggini-ridotta-30.jpg
END:VEVENT
END:VCALENDAR