BEGIN:VCALENDAR
VERSION:2.0
PRODID:-//Museo di Leventina - ECPv4.9.13//NONSGML v1.0//EN
CALSCALE:GREGORIAN
METHOD:PUBLISH
X-WR-CALNAME:Museo di Leventina
X-ORIGINAL-URL:https://museodileventina.ch
X-WR-CALDESC:Eventi per Museo di Leventina
BEGIN:VTIMEZONE
TZID:Europe/Zurich
BEGIN:DAYLIGHT
TZOFFSETFROM:+0100
TZOFFSETTO:+0200
TZNAME:CEST
DTSTART:20170326T010000
END:DAYLIGHT
BEGIN:STANDARD
TZOFFSETFROM:+0200
TZOFFSETTO:+0100
TZNAME:CET
DTSTART:20171029T010000
END:STANDARD
END:VTIMEZONE
BEGIN:VEVENT
DTSTART;TZID=Europe/Zurich:20170317T200000
DTEND;TZID=Europe/Zurich:20170317T220000
DTSTAMP:20260422T192455
CREATED:20170124T160219Z
LAST-MODIFIED:20170223T163542Z
UID:2951-1489780800-1489788000@museodileventina.ch
SUMMARY:La politica come costruzione di identità
DESCRIPTION:Conferenza con il Prof. Oscar Mazzoleni \nL’azione politica è sempre\, in una qualche misura\, fabbricazione di identità collettive. Se la politica è costruzione dei “nostri” e degli “altri”\, questa capacità dipende molto dal contesto e dal periodo storico. Nel cantone Ticino\, fino agli anni ’40 e '50 del secolo scorso\, questa costruzione\, promossa dai partiti politici\, faceva tutt’uno con la società contadina ticinese e il suo immaginario. Oggi\, la costruzione dell’identità politica\, nell’epoca della cosiddetta crisi delle ideologie\, dell’individualismo diffuso\, sembra diventata uno sforzo di Sisifo. E’ la fine della politica? \nOscar Mazzoleni (Locarno\, 1968)\, laureato in Sociologia e Antropologia\, dottore in Storia contemporanea\, è professore titolare di Scienza politica e direttore dell’Osservatorio della vita politica regionale dell’Università di Losanna. Ha pubblicato numerosi studi sulla politica ticinese e su quella svizzera. \n2017-03-17 volantino A4 - Conferenza Mazzoleni \n
URL:https://museodileventina.ch/event/la-politica-come-costruzione-di-identita/
LOCATION:Centro di formazione ESI presso il complesso della Vecchia Biaschina\, Bodio\, Strada industriale\, Bodio\, Svizzera
ATTACH;FMTTYPE=image/jpeg:https://museodileventina.ch/wp-content/uploads/2017/01/images.jpg
END:VEVENT
END:VCALENDAR