BEGIN:VCALENDAR
VERSION:2.0
PRODID:-//Museo di Leventina - ECPv4.9.13//NONSGML v1.0//EN
CALSCALE:GREGORIAN
METHOD:PUBLISH
X-WR-CALNAME:Museo di Leventina
X-ORIGINAL-URL:https://museodileventina.ch
X-WR-CALDESC:Eventi per Museo di Leventina
BEGIN:VTIMEZONE
TZID:Europe/Zurich
BEGIN:DAYLIGHT
TZOFFSETFROM:+0100
TZOFFSETTO:+0200
TZNAME:CEST
DTSTART:20170326T010000
END:DAYLIGHT
BEGIN:STANDARD
TZOFFSETFROM:+0200
TZOFFSETTO:+0100
TZNAME:CET
DTSTART:20171029T010000
END:STANDARD
END:VTIMEZONE
BEGIN:VEVENT
DTSTART;TZID=Europe/Zurich:20171130T203000
DTEND;TZID=Europe/Zurich:20171130T223000
DTSTAMP:20260424T054901
CREATED:20171121T095745Z
LAST-MODIFIED:20171121T100120Z
UID:3153-1512073800-1512081000@museodileventina.ch
SUMMARY:La stazione climatica estiva di Faido. Storia dimenticata del turismo ticinese della Belle Époque.
DESCRIPTION:Ludovico Zappa presenterà il lavoro di Bachelor svolto presso l'Università di Losanna. Alla serata interverranno lo storico Dr. Fabrizio Viscontini e Diana Tenconi\, curatrice del Museo di Leventina. \nEntrata libera. \n \nScarica la locandina: 2017-11-30 Ludovico Zappa 2 \n
URL:https://museodileventina.ch/event/la-stazione-climatica-estiva-di-faido-storia-dimenticata-del-turismo-ticinese-della-belle-epoque/
LOCATION:Aula Magna del centro scolastico di Faido
ATTACH;FMTTYPE=image/jpeg:https://museodileventina.ch/wp-content/uploads/2016/03/Dettaglio-di-bel93243-compressa-sito.jpg
END:VEVENT
END:VCALENDAR