BEGIN:VCALENDAR
VERSION:2.0
PRODID:-//Museo di Leventina - ECPv4.9.13//NONSGML v1.0//EN
CALSCALE:GREGORIAN
METHOD:PUBLISH
X-WR-CALNAME:Museo di Leventina
X-ORIGINAL-URL:https://museodileventina.ch
X-WR-CALDESC:Eventi per Museo di Leventina
BEGIN:VTIMEZONE
TZID:Europe/Zurich
BEGIN:DAYLIGHT
TZOFFSETFROM:+0100
TZOFFSETTO:+0200
TZNAME:CEST
DTSTART:20150329T010000
END:DAYLIGHT
BEGIN:STANDARD
TZOFFSETFROM:+0200
TZOFFSETTO:+0100
TZNAME:CET
DTSTART:20151025T010000
END:STANDARD
END:VTIMEZONE
BEGIN:VEVENT
DTSTART;TZID=Europe/Zurich:20151212T160000
DTEND;TZID=Europe/Zurich:20151212T200000
DTSTAMP:20260425T151314
CREATED:20151123T133829Z
LAST-MODIFIED:20151127T164920Z
UID:2566-1449936000-1449950400@museodileventina.ch
SUMMARY:Mercatino di Natale
DESCRIPTION:In occasione del Mercatino di Natale di Giornico\, il Museo di Leventina sarà aperto straordinariamente. \nDopo il suo lungo viaggio per il mondo a distribuire doni a tutti i bambini\, alle 18.00 tornerà San Nicolao! Sarà un pò stanco dopo il lungo viaggio... ma avrà ancora regali per tutti i piccini. \nEntrata gratuita. \nAllo shop del museo si potranno inoltre trovare diverse pubblicazioni dedicate alla Leventina. Ogni acquisto contribuirà a sostenere l'attività del museo. \n  \n
URL:https://museodileventina.ch/event/mercatino-di-natale/
END:VEVENT
END:VCALENDAR