BEGIN:VCALENDAR
VERSION:2.0
PRODID:-//Museo di Leventina - ECPv4.9.13//NONSGML v1.0//EN
CALSCALE:GREGORIAN
METHOD:PUBLISH
X-WR-CALNAME:Museo di Leventina
X-ORIGINAL-URL:https://museodileventina.ch
X-WR-CALDESC:Eventi per Museo di Leventina
BEGIN:VTIMEZONE
TZID:Europe/Zurich
BEGIN:DAYLIGHT
TZOFFSETFROM:+0100
TZOFFSETTO:+0200
TZNAME:CEST
DTSTART:20160327T010000
END:DAYLIGHT
BEGIN:STANDARD
TZOFFSETFROM:+0200
TZOFFSETTO:+0100
TZNAME:CET
DTSTART:20161030T010000
END:STANDARD
END:VTIMEZONE
BEGIN:VEVENT
DTSTART;TZID=Europe/Zurich:20161105T180000
DTEND;TZID=Europe/Zurich:20161105T200000
DTSTAMP:20260423T084821
CREATED:20160303T170852Z
LAST-MODIFIED:20160305T154528Z
UID:2669-1478368800-1478376000@museodileventina.ch
SUMMARY:“Passioni alpine: sessualità\, parentela e politica nelle Alpi svizzere”
DESCRIPTION:Conferenza del Prof. Sandro Guzzi-Heeb\, storico\, Università di Losanna e Berna. \nAttraverso un nuovo sguardo sulle comunità dell'arco alpino\, lo storico Sandro Guzzi-Heeb\, ci invita a scoprire un mondo legato alle passioni sessuali\, politiche\, religiose\, nelle quali si rispecchiavano sentimenti e impulsi individuali e importanti margini di scelta. Sono stati soggetti della sua ricerca i ceti subalterni: contadini\, allevatori\, donne\, e le loro passioni.\n \n
URL:https://museodileventina.ch/event/passioni-alpine-sessualita-parentela-e-politica-nelle-alpi-svizzere/
LOCATION:Centro di formazione ESI presso il complesso della Vecchia Biaschina\, Bodio\, Strada industriale\, Bodio\, Svizzera
ATTACH;FMTTYPE=image/jpeg:https://museodileventina.ch/wp-content/uploads/2016/03/Passions_alpines_couv-immagine.jpg
END:VEVENT
END:VCALENDAR