BEGIN:VCALENDAR
VERSION:2.0
PRODID:-//Museo di Leventina - ECPv4.9.13//NONSGML v1.0//EN
CALSCALE:GREGORIAN
METHOD:PUBLISH
X-WR-CALNAME:Museo di Leventina
X-ORIGINAL-URL:https://museodileventina.ch
X-WR-CALDESC:Eventi per Museo di Leventina
BEGIN:VTIMEZONE
TZID:Europe/Zurich
BEGIN:DAYLIGHT
TZOFFSETFROM:+0100
TZOFFSETTO:+0200
TZNAME:CEST
DTSTART:20190331T010000
END:DAYLIGHT
BEGIN:STANDARD
TZOFFSETFROM:+0200
TZOFFSETTO:+0100
TZNAME:CET
DTSTART:20191027T010000
END:STANDARD
END:VTIMEZONE
BEGIN:VEVENT
DTSTART;TZID=Europe/Zurich:20190213T183000
DTEND;TZID=Europe/Zurich:20190213T200000
DTSTAMP:20260423T090746
CREATED:20190116T140857Z
LAST-MODIFIED:20190116T155609Z
UID:3471-1550082600-1550088000@museodileventina.ch
SUMMARY:PRESENTAZIONE DEL LIBRO  La ferrovia del Gottardo
DESCRIPTION:interverranno gli autori \nAdriano Cavadini\,  \nSergio Michels\,  \nFabrizio Viscontini. \nLa presentazione sarà moderata da \nOrazio Martinetti\, giornalista e storico. \nAl termine sarà offerto un aperitivo \ne potrà essere acquistato il volume al prezzo speciale di CHF 52.-. \nPer ragioni organizzative le saremmo grati se ci comunicasse la sua presenza e quella di eventuali accompagnatori a info@museodileventina.ch oppure chiamando 091 864 25 22.\n \n
URL:https://museodileventina.ch/event/presentazione-del-libro-la-ferrovia-del-gottard-sempre-allavanguardia-e-proiettata-nel-futuro/
LOCATION:Museo di Leventina\, Giornico
ATTACH;FMTTYPE=image/jpeg:https://museodileventina.ch/wp-content/uploads/2019/01/Prima-di-copertina-libro-Gottardo2-6-439x512.jpg
END:VEVENT
END:VCALENDAR