BEGIN:VCALENDAR
VERSION:2.0
PRODID:-//Museo di Leventina - ECPv4.9.13//NONSGML v1.0//EN
CALSCALE:GREGORIAN
METHOD:PUBLISH
X-WR-CALNAME:Museo di Leventina
X-ORIGINAL-URL:https://museodileventina.ch
X-WR-CALDESC:Eventi per Museo di Leventina
BEGIN:VTIMEZONE
TZID:Europe/Zurich
BEGIN:DAYLIGHT
TZOFFSETFROM:+0100
TZOFFSETTO:+0200
TZNAME:CEST
DTSTART:20160327T010000
END:DAYLIGHT
BEGIN:STANDARD
TZOFFSETFROM:+0200
TZOFFSETTO:+0100
TZNAME:CET
DTSTART:20161030T010000
END:STANDARD
END:VTIMEZONE
BEGIN:VEVENT
DTSTART;TZID=Europe/Zurich:20161213T203000
DTEND;TZID=Europe/Zurich:20161213T213000
DTSTAMP:20260422T230947
CREATED:20161130T193938Z
LAST-MODIFIED:20161130T202218Z
UID:2909-1481661000-1481664600@museodileventina.ch
SUMMARY:PRESENTAZIONE DEL VOLUME: "Natale" di Franco Lurà
DESCRIPTION:Con il Dr. Franco Lurà\, Direttore del Centro di dialettologia e di etnografia.\nEntrata gratuita.\nAl termine sarà offerto un rinfresco. \nNatale: estratto dal Vocabolario dei dialetti della Svizzera italiana\, di Franco Lurà\, Bellinzona\, Centro di dialettologia e di etnografia\, 2016\, 304 p. \nIn principi del sécol a gh’éra amò quai vécc che i diséva Denedaa\, ma dòpo i a dicc domá Natál\, la fèsta dal Bambín\, all’inizio del secolo [del Novecento] c’era ancora qualche vecchio che diceva Denedaa\, ma dopo hanno detto solo Natál\, la festa di Gesù Bambino (Roveredo Grig.). Inizia così un libro dedicato al Natale e a tutte le sue sfaccettature\, che verrà pubblicato prossimamente dal Centro di dialettologia e di etnografia. Frutto di una ricerca condotta da Franco Lurà\, il volume presenta le tradizioni e le usanze legate a questo momento importante della vita comunitaria dei paesi della Svizzera italiana. Partendo dal periodo dell’Avvento\, il volume percorre le settimane che precedono la festa\, per poi soffermarsi sulle pratiche della Novena\, sugli aspetti magici della festa\, sulla pratica dei regali\, sulle figure portatrici di doni\, sulla varietà dei cibi\, sulla particolarità degli addobbi\, dall’albero al presepio\, toccando anche vari altri aspetti oggi in parte meno noti. Particolare spazio viene dato alle numerose espressioni dialettali\, ai proverbi\, ai modi di dire\, alle filastrocche\, alle poesie\, alle leggende e ai canti che si ricollegano a questo periodo dell’anno. Il testo è completato e arricchito da un variegato corredo illustrativo. \n Scarica il volantino: 2016-12-13 volantinoA4 - Natale 2016-12-13 volantinoA4 - Natale \n
URL:https://museodileventina.ch/event/presentazione-del-volume-natale-di-franco-lura/
LOCATION:Centro di formazione ESI presso il complesso della Vecchia Biaschina\, Bodio\, Strada industriale\, Bodio\, Svizzera
ATTACH;FMTTYPE=image/jpeg:https://museodileventina.ch/wp-content/uploads/2016/06/DENEDAA_Copertina.jpg
END:VEVENT
END:VCALENDAR