BEGIN:VCALENDAR
VERSION:2.0
PRODID:-//Museo di Leventina - ECPv4.9.13//NONSGML v1.0//EN
CALSCALE:GREGORIAN
METHOD:PUBLISH
X-WR-CALNAME:Museo di Leventina
X-ORIGINAL-URL:https://museodileventina.ch
X-WR-CALDESC:Eventi per Museo di Leventina
BEGIN:VTIMEZONE
TZID:Europe/Zurich
BEGIN:DAYLIGHT
TZOFFSETFROM:+0100
TZOFFSETTO:+0200
TZNAME:CEST
DTSTART:20180325T010000
END:DAYLIGHT
BEGIN:STANDARD
TZOFFSETFROM:+0200
TZOFFSETTO:+0100
TZNAME:CET
DTSTART:20181028T010000
END:STANDARD
END:VTIMEZONE
BEGIN:VEVENT
DTSTART;TZID=Europe/Zurich:20180428T140000
DTEND;TZID=Europe/Zurich:20180428T170000
DTSTAMP:20260424T193157
CREATED:20180219T124555Z
LAST-MODIFIED:20180427T123834Z
UID:3180-1524924000-1524934800@museodileventina.ch
SUMMARY:Riapertura del Museo di Leventina
DESCRIPTION:Entrata gratuita. \n  \n
URL:https://museodileventina.ch/event/riapertura-del-museo-di-leventina/
LOCATION:Museo di Leventina\, Giornico
END:VEVENT
END:VCALENDAR