BEGIN:VCALENDAR
VERSION:2.0
PRODID:-//Museo di Leventina - ECPv4.9.13//NONSGML v1.0//EN
CALSCALE:GREGORIAN
METHOD:PUBLISH
X-WR-CALNAME:Museo di Leventina
X-ORIGINAL-URL:https://museodileventina.ch
X-WR-CALDESC:Eventi per Museo di Leventina
BEGIN:VTIMEZONE
TZID:Europe/Zurich
BEGIN:DAYLIGHT
TZOFFSETFROM:+0100
TZOFFSETTO:+0200
TZNAME:CEST
DTSTART:20160327T010000
END:DAYLIGHT
BEGIN:STANDARD
TZOFFSETFROM:+0200
TZOFFSETTO:+0100
TZNAME:CET
DTSTART:20161030T010000
END:STANDARD
END:VTIMEZONE
BEGIN:VEVENT
DTSTART;TZID=Europe/Zurich:20160430T150000
DTEND;TZID=Europe/Zurich:20160430T180000
DTSTAMP:20260425T013306
CREATED:20160215T175748Z
LAST-MODIFIED:20160303T102310Z
UID:2637-1462028400-1462039200@museodileventina.ch
SUMMARY:RIAPERTURA MUSEO: INAUGURAZIONE DELLA MOSTRA "Effetto tunnel" E DEL LABORATORIO DI STAMPA
DESCRIPTION:
URL:https://museodileventina.ch/event/riapertura-museo-3/
LOCATION:Centro di formazione ESI presso il complesso della Vecchia Biaschina\, Bodio\, Strada industriale\, Bodio\, Svizzera
END:VEVENT
END:VCALENDAR