BEGIN:VCALENDAR
VERSION:2.0
PRODID:-//Museo di Leventina - ECPv4.9.13//NONSGML v1.0//EN
CALSCALE:GREGORIAN
METHOD:PUBLISH
X-WR-CALNAME:Museo di Leventina
X-ORIGINAL-URL:https://museodileventina.ch
X-WR-CALDESC:Eventi per Museo di Leventina
BEGIN:VTIMEZONE
TZID:Europe/Zurich
BEGIN:DAYLIGHT
TZOFFSETFROM:+0100
TZOFFSETTO:+0200
TZNAME:CEST
DTSTART:20170326T010000
END:DAYLIGHT
BEGIN:STANDARD
TZOFFSETFROM:+0200
TZOFFSETTO:+0100
TZNAME:CET
DTSTART:20171029T010000
END:STANDARD
END:VTIMEZONE
BEGIN:VEVENT
DTSTART;TZID=Europe/Zurich:20170520T180000
DTEND;TZID=Europe/Zurich:20170520T193000
DTSTAMP:20260422T101054
CREATED:20170428T151434Z
LAST-MODIFIED:20170428T151959Z
UID:3026-1495303200-1495308600@museodileventina.ch
SUMMARY:Storia della lavorazione del formaggio in Leventina.
DESCRIPTION:CONFERENZA CON DEGUSTAZIONE. \nCon il Dr. Mauro Gendotti\, veterinario e il Dr. Fabrizio Viscontini\, storico. \nNella conferenza Fabrizio Viscontini parlerà in generale della nascita della società agropastorale in Leventina con lo sfruttamento verticale del territorio (maggenghi e alpi) e la produzione dei formaggi. In particolare\, ci si soffermerà sull’importanza economica di queste attività nell’antica vicinanza di Prato. \nMauro Gendotti introdurrà il tema dello sfruttamento e carico degli Alpi e della trasformazione dei prodotti\, di come venivano assegnate le forme di formaggio tra i proprietari del bestiame e come venivano fatti i conti sull'alpe. \nAl termine sarà proposta una degustazione di alcuni prodotti di alpi locali accompagnata dalle spiegazioni sulle componenti organolettiche e sui metodi di produzione. \n \nIscrizioni entro: venerdì 12 maggio 2017 (posti limitati). \nCosto: 20 .- CHF. \n Dopo la degustazione\, la Locanda propone una cena con specialità a base di formaggio. \n  \nContatti e iscrizioni:\nMuseo di Leventina\nCasa Stanga\n6745 Giornico \nTel. +41 91 864 25 22\ninfo@museodileventina.ch\nwww.museodileventina.ch \n
URL:https://museodileventina.ch/event/storia-della-lavorazione-del-formaggio-in-leventina-conferenza-con-degustazione/
LOCATION:Dazio Grande\, Rodi-Fiesso\, Svizzera
ATTACH;FMTTYPE=image/png:https://museodileventina.ch/wp-content/uploads/2017/04/img-formaggio.png
END:VEVENT
END:VCALENDAR