BEGIN:VCALENDAR
VERSION:2.0
PRODID:-//Museo di Leventina - ECPv4.9.13//NONSGML v1.0//EN
CALSCALE:GREGORIAN
METHOD:PUBLISH
X-WR-CALNAME:Museo di Leventina
X-ORIGINAL-URL:https://museodileventina.ch
X-WR-CALDESC:Eventi per Museo di Leventina
BEGIN:VTIMEZONE
TZID:Europe/Zurich
BEGIN:DAYLIGHT
TZOFFSETFROM:+0100
TZOFFSETTO:+0200
TZNAME:CEST
DTSTART:20170326T010000
END:DAYLIGHT
BEGIN:STANDARD
TZOFFSETFROM:+0200
TZOFFSETTO:+0100
TZNAME:CET
DTSTART:20171029T010000
END:STANDARD
END:VTIMEZONE
BEGIN:VEVENT
DTSTART;VALUE=DATE:20170722
DTEND;VALUE=DATE:20170723
DTSTAMP:20260422T174818
CREATED:20170314T162354Z
LAST-MODIFIED:20170314T162946Z
UID:2990-1500681600-1500767999@museodileventina.ch
SUMMARY:Strada Alta:  una gita con l'autopostale d'epoca
DESCRIPTION:Gita guidata con il Prof. Guido Pedrojetta\, linguista; Alberto Jelmini\, storico dell’arte; Valerio Jelmini\, forestale e sindaco del Comune di Quinto e il Dr. Fabrizio Viscontini\, storico. \nSeduti comodamente su di un autopostale d'epoca\, si ripercorrerà un tratto della mitica Strada Alta cantata da Nella Martinetti. Da Faido si salirà in Alta Leventina\, patria della poetessa Alina Borioli\, dove\, grazie alla mediazione di Guido Pedroietta\, riprenderanno vita alcuni dei più importanti personaggi delle sue poesie. Con Fabrizio Viscontini\, Alberto Jelmini e Valerio Jelmini si visiteranno luoghi\, monumenti e villaggi del Comune di Quinto. Il vecchio Sanatorio e le testimonianze artistiche delle chiese di Altanca\, S. Martino\, Catto e Quinto saranno mete privilegiate; come pure alcuni dei siti più interessanti dal punto di vista paesaggistico e del patrimonio boschivo locale. \nSi potranno assaporare i prodotti locali e visitare una cantina per la conservazione del formaggio Piora. \n \nCosto : 80.- CHF (70.- CHF per i soci) – comprende viaggio in autopostale d’epoca\, visite guidate e pranzo. \nIscizioni entro : venerdì 30 giugno 2017. \n  \n  \n
URL:https://museodileventina.ch/event/strada-alta-una-gita-con-lautopostale-depoca/
LOCATION:Alta Leventina
ATTACH;FMTTYPE=image/jpeg:https://museodileventina.ch/wp-content/uploads/2017/03/Gita-Strada-Alta-web.jpg
END:VEVENT
END:VCALENDAR