BEGIN:VCALENDAR
VERSION:2.0
PRODID:-//Museo di Leventina - ECPv4.9.13//NONSGML v1.0//EN
CALSCALE:GREGORIAN
METHOD:PUBLISH
X-WR-CALNAME:Museo di Leventina
X-ORIGINAL-URL:https://museodileventina.ch
X-WR-CALDESC:Eventi per Museo di Leventina
BEGIN:VTIMEZONE
TZID:Europe/Zurich
BEGIN:DAYLIGHT
TZOFFSETFROM:+0100
TZOFFSETTO:+0200
TZNAME:CEST
DTSTART:20180325T010000
END:DAYLIGHT
BEGIN:STANDARD
TZOFFSETFROM:+0200
TZOFFSETTO:+0100
TZNAME:CET
DTSTART:20181028T010000
END:STANDARD
END:VTIMEZONE
BEGIN:VEVENT
DTSTART;TZID=Europe/Zurich:20180513T140000
DTEND;TZID=Europe/Zurich:20180513T190000
DTSTAMP:20260424T223943
CREATED:20180427T123606Z
LAST-MODIFIED:20180828T152217Z
UID:3234-1526220000-1526238000@museodileventina.ch
SUMMARY:Tag\, share\, like — il museo iperconnesso - con Paolo Attivissimo
DESCRIPTION: \nProgramma:\n14.00 Apertura del museo e creazione di un museo virtuale da parte dei visitatori.\n17.00 Conferenza di Paolo Attivissimo - Di chi sono i miei dati?\nLa tecnologia digitale ci permette di essere tutti creatori di cultura\, ma conservare i dati digitali non è affatto semplice: i nostri dati rischiano di perdersi. Attraverso casi vissuti e semplici tecniche di difesa\, vengono presentati i principali problemi\, spesso inattesi\, della conservazione delle informazioni anche nella vita quotidiana: CD e DVD che “marciscono”\, supporti e formati obsoleti\, licenze d’uso e lucchetti digitali DRM (Digital Rights Management)\, esempi concreti di censura tramite obsolescenza. Leggi e tecnologie da conoscere per non lasciare ai nostri ﬁgli un’illeggibile catasta di bit. \n18.00 Aperitivo.\nEntrata gratuita. \n
URL:https://museodileventina.ch/event/tag-share-like-il-museo-iperconnesso/
LOCATION:Museo di Leventina\, Giornico
ATTACH;FMTTYPE=image/jpeg:https://museodileventina.ch/wp-content/uploads/2018/04/PaoloAttivissimo.jpg
END:VEVENT
END:VCALENDAR