BEGIN:VCALENDAR
VERSION:2.0
PRODID:-//Museo di Leventina - ECPv4.9.13//NONSGML v1.0//EN
CALSCALE:GREGORIAN
METHOD:PUBLISH
X-WR-CALNAME:Museo di Leventina
X-ORIGINAL-URL:https://museodileventina.ch
X-WR-CALDESC:Eventi per Museo di Leventina
BEGIN:VTIMEZONE
TZID:Europe/Zurich
BEGIN:DAYLIGHT
TZOFFSETFROM:+0100
TZOFFSETTO:+0200
TZNAME:CEST
DTSTART:20230326T010000
END:DAYLIGHT
BEGIN:STANDARD
TZOFFSETFROM:+0200
TZOFFSETTO:+0100
TZNAME:CET
DTSTART:20231029T010000
END:STANDARD
END:VTIMEZONE
BEGIN:VEVENT
DTSTART;TZID=Europe/Zurich:20230202T183000
DTEND;TZID=Europe/Zurich:20230202T213000
DTSTAMP:20260423T090644
CREATED:20230126T090218Z
LAST-MODIFIED:20230201T090354Z
UID:10618-1675362600-1675373400@museodileventina.ch
SUMMARY:Territori alpini: tra ruralità e urbanità. Quale futuro per la Leventina?
DESCRIPTION:CONFERENZA CON CENA\nCon gli storici del Laboratorio di Storia delle Alpi\nProf. Luigi Lorenzetti e PhD Roberto Leggero\nModererà la serata lo storico Dr. Fabrizio Viscontini\nSi possono descrivere i territori di montagna come luoghi nei quali urbanità e ruralità coesistono in uno scambio costante e dinamico? Oppure li si deve considerare come il risultato della contrapposizione tra mondo urbano e mondo rurale? Durante la serata gli ospiti discuteranno\, partendo da questi quesiti\, dei rapporti tra centri urbani e valli. \nI RELATORI\nLuigi Lorenzetti: ha conseguito il dottorato in storia economica e sociale all’Università di Ginevra. È stato professore invitato all’Ecole des Hautes Etudes di Parigi e ha insegnato nelle Università di Grenoble e di Friborgo. Attualmente è professore presso l’Accademia di architettura di Mendrisio dove coordina il Laboratorio di Storia delle Alpi. I suoi campi di ricerca riguardano la storia della popolazione e della famiglia\, la storia delle migrazioni\, la storia dei sistemi di proprietà e la storia economica e sociale delle Alpi nell’epoca moderna e contemporanea. È segretario generale dell’Associazione internazionale per la storia delle Alpi e membro del consiglio scientifico della Società svizzera di storia economica e sociale e della Società svizzera di storia rurale. Ha diretto diversi progetti di ricerca del Fondo Nazionale Svizzero l’ultimo dei quali è dedicato agli indotti delle migrazioni in Ticino e nel canton Neuchâtel tra il XVIII e il XX sec. \nRoberto Leggero si è laureato in Filosofia con una tesi in Storia Medievale con il Prof. Grado Merlo (Storia della Chiesa medievale e dei movimenti ereticali) presso l'Università degli studi di Milano e ha ottenuto un PhD in Storia medievale dall'Università di Padova. Ha lavorato come ricercatore a contratto per l'Università degli Studi di Torino e\, dal 2012\, per il Laboratorio di Storia delle Alpi (LabiSAlp). Si è occupato di storia del territorio e degli insediamenti\, della gestione collettiva delle risorse nel medioevo\, di storia della manutenzione. E' stato membro della commissione scientifica dell'Istituto per la storia della Resistenza e della società contemporanea di Novara ed è socio fondatore della Società italiana di Storia ambientale. Tra i suoi volumi: Domatori dei prìncipi e altre note di storia svizzera (2018). \nFabrizio Viscontini è nato a Faido nel 1965\, ha ottenuto la licenza in storia moderna e contemporanea all’Università di Friborgo. Nel 2000 ha presentato presso la stessa università un dottorato in storia economica\, “Alla ricerca dello sviluppo… La politica economica nel Ticino (1873-1953). Aspetti cantonali e regionali”. Dal 2001 è direttore della Scuola media Giornico-Faido. Negli ultimi anni ha anche lavorato\, o collaborato\, alla realizzazione di numerose pubblicazioni di carattere storico. \n  \nCENA \nAl termine della serata\, chi lo desidera si potrà fermare a cena presso il ristorante del Motel Gottardo Sud. Le riservazioni sono da fare direttamente al ristorante al numero: 091 873 60 60 entro mercoledì 1 febbraio 2023. \nMenu: Scelta tra menù di carne\, di pesce o vegetariano. \nCosto (a persona bevande escluse): a dipendenza del menu tra i 30.- e 40.- CHF. \nScarica qui la locandina \nMenu  \n  \n  \n
URL:https://museodileventina.ch/event/territori-alpini-tra-ruralita-e-urbanita-quale-futuro-per-la-leventina/
LOCATION:Motel Gottardo Sud\, Piotta\, Via di Mezzo 16\,\, 6776 Piotta\, Svizzera
ATTACH;FMTTYPE=image/jpeg:https://museodileventina.ch/wp-content/uploads/2023/01/Vista-valle-scaled-e1674638280979.jpg
END:VEVENT
END:VCALENDAR