BEGIN:VCALENDAR
VERSION:2.0
PRODID:-//Museo di Leventina - ECPv4.9.13//NONSGML v1.0//EN
CALSCALE:GREGORIAN
METHOD:PUBLISH
X-WR-CALNAME:Museo di Leventina
X-ORIGINAL-URL:https://museodileventina.ch
X-WR-CALDESC:Eventi per Museo di Leventina
BEGIN:VTIMEZONE
TZID:Europe/Zurich
BEGIN:DAYLIGHT
TZOFFSETFROM:+0100
TZOFFSETTO:+0200
TZNAME:CEST
DTSTART:20160327T010000
END:DAYLIGHT
BEGIN:STANDARD
TZOFFSETFROM:+0200
TZOFFSETTO:+0100
TZNAME:CET
DTSTART:20161030T010000
END:STANDARD
END:VTIMEZONE
BEGIN:VEVENT
DTSTART;VALUE=DATE:20160519
DTEND;VALUE=DATE:20160620
DTSTAMP:20260424T202125
CREATED:20160215T181110Z
LAST-MODIFIED:20160215T181110Z
UID:2638-1463616000-1466380799@museodileventina.ch
SUMMARY:Totem RSI Leventina a Faido
DESCRIPTION:Presentazione della Valle attraverso i contenuti del Totem RSI Leventina che in occasione dell’arrivo della tappa del Giro della Svizzera a Carì\, sarà trasportato a Faido  per presentare i suoi contenuti e la ricchezza culturale della Valle. \nIl Totem RSI Leventina sarà accessibile al pubblico durante i periodi di apertura dell'Aula Magna delle Scuole di Faido. \n
URL:https://museodileventina.ch/event/totem-rsi-leventina-a-faido/
LOCATION:Aula Magna\, Centro Scolastico\, Faido\, Svizzera
ATTACH;FMTTYPE=image/jpeg:https://museodileventina.ch/wp-content/uploads/2015/06/totem.jpg
END:VEVENT
END:VCALENDAR