BEGIN:VCALENDAR
VERSION:2.0
PRODID:-//Museo di Leventina - ECPv4.9.13//NONSGML v1.0//EN
CALSCALE:GREGORIAN
METHOD:PUBLISH
X-WR-CALNAME:Museo di Leventina
X-ORIGINAL-URL:https://museodileventina.ch
X-WR-CALDESC:Eventi per Museo di Leventina
BEGIN:VTIMEZONE
TZID:Europe/Zurich
BEGIN:DAYLIGHT
TZOFFSETFROM:+0100
TZOFFSETTO:+0200
TZNAME:CEST
DTSTART:20160327T010000
END:DAYLIGHT
BEGIN:STANDARD
TZOFFSETFROM:+0200
TZOFFSETTO:+0100
TZNAME:CET
DTSTART:20161030T010000
END:STANDARD
END:VTIMEZONE
BEGIN:VEVENT
DTSTART;TZID=Europe/Zurich:20160902T180000
DTEND;TZID=Europe/Zurich:20160902T200000
DTSTAMP:20260424T012900
CREATED:20160215T182216Z
LAST-MODIFIED:20160824T155953Z
UID:2641-1472839200-1472846400@museodileventina.ch
SUMMARY:Transito e identità: una conferenza in movimento
DESCRIPTION:Dal concetto antropologico di “identità” alle relazioni con la storia dei transiti fino alla Belle Époque in Leventina e al turismo dei giorni nostri.\nTransito e identità: due temi profondamente influenzati dal movimento e dal cambiamento. Parlare di questi concetti e della loro storia rimanendo sul posto? Non è infatti quello che accadrà durante questa serata in cui anche il pubblico “viaggerà” nelle sale del museo. \n  \n \nConferenza in movimento con Diana Tenconi\, curatrice del Museo di Leventina e antropologa sociale\, Dr. Fabrizio Viscontini\, storico\, Fabrizio Barudoni\, direttore della Sede Leventina dell’Ente turistico Bellinzonese e Alto Ticino. \n
URL:https://museodileventina.ch/event/transito-e-identita-una-conferenza-in-movimento/
LOCATION:Centro di formazione ESI presso il complesso della Vecchia Biaschina\, Bodio\, Strada industriale\, Bodio\, Svizzera
ATTACH;FMTTYPE=image/jpeg:https://museodileventina.ch/wp-content/uploads/2016/04/traffico_tremola1.jpg
END:VEVENT
END:VCALENDAR