BEGIN:VCALENDAR
VERSION:2.0
PRODID:-//Museo di Leventina - ECPv4.9.13//NONSGML v1.0//EN
CALSCALE:GREGORIAN
METHOD:PUBLISH
X-WR-CALNAME:Museo di Leventina
X-ORIGINAL-URL:https://museodileventina.ch
X-WR-CALDESC:Eventi per Museo di Leventina
BEGIN:VTIMEZONE
TZID:Europe/Zurich
BEGIN:DAYLIGHT
TZOFFSETFROM:+0100
TZOFFSETTO:+0200
TZNAME:CEST
DTSTART:20160327T010000
END:DAYLIGHT
BEGIN:STANDARD
TZOFFSETFROM:+0200
TZOFFSETTO:+0100
TZNAME:CET
DTSTART:20161030T010000
END:STANDARD
END:VTIMEZONE
BEGIN:VEVENT
DTSTART;TZID=Europe/Zurich:20160604T173000
DTEND;TZID=Europe/Zurich:20160604T190000
DTSTAMP:20260424T153934
CREATED:20160215T174555Z
LAST-MODIFIED:20160601T122849Z
UID:2631-1465061400-1465066800@museodileventina.ch
SUMMARY:“Una montagna d’oro”
DESCRIPTION:Presentazione del libro “Una montagna d’oro” con l’autore Andrea Bertagni e lo storico Nicola Pini.\nCos'hanno in comune il massiccio del San Gottardo e un caveau stracolmo di lingotti d'oro? In apparenza niente\, se non fosse che è proprio nella montagna sopra ad Airolo che la più grande banca della Svizzera ha nascosto il suo tesoro\, credendolo al sicuro.\nPeccato che la banca in questione non abbia fatto i conti con lo scavo della galleria ferroviaria del 1882 e del tunnel di AlpTransit e con una cricca di criminali\, avventurieri e disperati\, pronti a tutto\, perfino ad ammazzare\, per trovare l'oro...\nSi gioca attorno a questa trama il romanzo "Una montagna d'oro" edito dalla Progetto Stampa Chiasso dell'esordiente scrittore ticinese Andrea Bertagni\, 38enne di Pregassona\, nato a Mendrisio\, già giornalista al Giornale del Popolo e ora all'Associazione industrie ticinesi (AITI).\nUn po' a tinte Western e un po' a tinte Noir\, il romanzo di Bertagni è soprattutto un'avventura piena di colpi di scena\, speranze\, delusioni\, intrighi\, omicidi\, vendette\, amori. Ma soprattutto un'avventura fatta di uomini e di donne\, a volte vinti\, a volte vincitori\, uniti da un passato che non può essere dimenticato e da un presente ancora tutto da interpretare\, lasciando in sospeso alcuni interrogativi che solo un finale a sorpresa sarà in grado di svelare. \nRiuscirà la banca a mantenere il tesoro al sicuro? O avrà la meglio la fame di denaro\, giustizia e rivalsa degli uomini e delle donne che si sono messi sulle sue tracce\, con la speranza di dare una svolta alle loro vite e al loro futuro. \n\n\n\n\n\n\n\n\n\n\n\n
URL:https://museodileventina.ch/event/una-montagna-doro/
LOCATION:Caseificio del Gottardo\, Airolo\, Svizzera
ATTACH;FMTTYPE=image/png:https://museodileventina.ch/wp-content/uploads/2016/02/Immagine-copertine-Bertagni-una-montagna-doro.png
END:VEVENT
END:VCALENDAR