BEGIN:VCALENDAR
VERSION:2.0
PRODID:-//Museo di Leventina - ECPv4.9.13//NONSGML v1.0//EN
CALSCALE:GREGORIAN
METHOD:PUBLISH
X-WR-CALNAME:Museo di Leventina
X-ORIGINAL-URL:https://museodileventina.ch
X-WR-CALDESC:Eventi per Museo di Leventina
BEGIN:VTIMEZONE
TZID:Europe/Zurich
BEGIN:DAYLIGHT
TZOFFSETFROM:+0100
TZOFFSETTO:+0200
TZNAME:CEST
DTSTART:20170326T010000
END:DAYLIGHT
BEGIN:STANDARD
TZOFFSETFROM:+0200
TZOFFSETTO:+0100
TZNAME:CET
DTSTART:20171029T010000
END:STANDARD
END:VTIMEZONE
BEGIN:VEVENT
DTSTART;TZID=Europe/Zurich:20170610T143000
DTEND;TZID=Europe/Zurich:20170610T160000
DTSTAMP:20260422T134159
CREATED:20170314T154043Z
LAST-MODIFIED:20170531T125058Z
UID:2988-1497105000-1497110400@museodileventina.ch
SUMMARY:Un’avventura sensoriale per scoprire i suoni e le voci della Valle
DESCRIPTION:Visita guidata con Mario Vicari\, linguista e presidente ad interim della Unitas\, Associazione ciechi e ipovedenti della Svizzera italiana. \nIl Museo di Leventina ospita una guida particolare che permetterà di penetrare nel cuore della Valle attraverso diversi sensi che non siano la vista. In questo viaggio saremo accompagnati da Mario Vicari\, che a lungo ha studiato i dialetti della Leventina e ha raccolto numerose testimonianze orali durante la sua carriera di studioso. \n \nMario Vicari\, laureato in lettere con formazione linguistica all'Università di Zurigo\, si occupa di indagini di fonti orali sui dialetti ticinesi. In questo ambito è stato curatore della collana di volumi con CD audio Documenti orali della svizzera italiana\, edita dal Centro di dialettologia e di etnografia\, per la quale sono uscite due pubblicazioni dedicate alla Valle Leventina. \nIpovedente fin dalla nascita\, è divenuto cieco all'età di 39 anni. È pure attivo in campo sociale quale presidente ad interim della Unitas\, Associazione ciechi e ipovedenti della Svizzera italiana. \nCosto: 15.- CHF\, 10.- CHF soci. \nIscrizioni entro: mercoledì 7 giugno 2017. I posti sono limitati. \n2017-06-10 volantino A4 -Visita sensoriale - Vicari \n
URL:https://museodileventina.ch/event/unavventura-sensoriale-per-scoprire-i-suoni-e-le-voci-della-valle/
ATTACH;FMTTYPE=image/jpeg:https://museodileventina.ch/wp-content/uploads/2017/03/Museo-di-Leventina-campani-e-campanacci-web.jpg
END:VEVENT
END:VCALENDAR