BEGIN:VCALENDAR
VERSION:2.0
PRODID:-//Museo di Leventina - ECPv4.9.13//NONSGML v1.0//EN
CALSCALE:GREGORIAN
METHOD:PUBLISH
X-WR-CALNAME:Museo di Leventina
X-ORIGINAL-URL:https://museodileventina.ch
X-WR-CALDESC:Eventi per Museo di Leventina
BEGIN:VTIMEZONE
TZID:Europe/Zurich
BEGIN:DAYLIGHT
TZOFFSETFROM:+0100
TZOFFSETTO:+0200
TZNAME:CEST
DTSTART:20170326T010000
END:DAYLIGHT
BEGIN:STANDARD
TZOFFSETFROM:+0200
TZOFFSETTO:+0100
TZNAME:CET
DTSTART:20171029T010000
END:STANDARD
END:VTIMEZONE
BEGIN:VEVENT
DTSTART;TZID=Europe/Zurich:20170924T150000
DTEND;TZID=Europe/Zurich:20170924T170000
DTSTAMP:20260423T032742
CREATED:20170914T125744Z
LAST-MODIFIED:20170914T130755Z
UID:3104-1506265200-1506272400@museodileventina.ch
SUMMARY:Viaggiatori dell'800 fra San Gottardo e Leventina. Cronache di un camminatore inglese e di altri viandanti.
DESCRIPTION:Parole\, museica e immagini. \nGuida del viaggio: Michele Fazioli \nDirezione musicale: Andrea Cupia con la Filarmonica di Faidese \nImmagini: Nocolas Joray \n  \nPossibilità di trasporto sul bus della filarmonica. Per informazioni rivolgersi a: turismo@faido.ch \nScarica la locandina: 20170924 Samuel Butler. \n
URL:https://museodileventina.ch/event/viaggiatori-dell800-fra-san-gottardo-e-leventina-cronache-di-un-camminatore-inglese-e-di-altri-viandanti/
LOCATION:Sala Papa Giovanni\, Seetalsrtasse 16\, Emmenbrücke
ATTACH;FMTTYPE=image/bmp:https://museodileventina.ch/wp-content/uploads/2016/04/Nuova-immagine-1.bmp
END:VEVENT
END:VCALENDAR