BEGIN:VCALENDAR
VERSION:2.0
PRODID:-//Museo di Leventina - ECPv4.9.13//NONSGML v1.0//EN
CALSCALE:GREGORIAN
METHOD:PUBLISH
X-WR-CALNAME:Museo di Leventina
X-ORIGINAL-URL:https://museodileventina.ch
X-WR-CALDESC:Eventi per Museo di Leventina
BEGIN:VTIMEZONE
TZID:Europe/Zurich
BEGIN:DAYLIGHT
TZOFFSETFROM:+0100
TZOFFSETTO:+0200
TZNAME:CEST
DTSTART:20160327T010000
END:DAYLIGHT
BEGIN:STANDARD
TZOFFSETFROM:+0200
TZOFFSETTO:+0100
TZNAME:CET
DTSTART:20161030T010000
END:STANDARD
END:VTIMEZONE
BEGIN:VEVENT
DTSTART;TZID=Europe/Zurich:20160813T203000
DTEND;TZID=Europe/Zurich:20160813T223000
DTSTAMP:20260424T044252
CREATED:20160803T103837Z
LAST-MODIFIED:20160803T104958Z
UID:2777-1471120200-1471127400@museodileventina.ch
SUMMARY:Viaggio nella Leventina dell'Ottocento con lo scrittore e artista Samuel Butler
DESCRIPTION:Ritorna su grande richiesta...il "Viaggio nella Leventina dell'Ottocento con lo scrittore e artista Samuel Butler. \nDurante la serata farà da guida tra letteratura\, storia e musica Michele Fazioli. \nLa direzione musicale è affidata ad Andrea Cupia che dirigerà la Filarmonica Faidese. \nLe immagini saranno curate da Nicolas Joray. \n2016-08-13 volantino Samuel Butler \n
URL:https://museodileventina.ch/event/viaggio-nella-leventina-dellottocento-con-lo-scrittore-e-artista-samuel-butler-2/
LOCATION:Stazione FFS\, Faido
ATTACH;FMTTYPE=image/bmp:https://museodileventina.ch/wp-content/uploads/2016/08/2016-08-13-Samuel-Butler.bmp
END:VEVENT
END:VCALENDAR